BEGIN:VCALENDAR
VERSION:2.0
PRODID:-//Lighthouse for the Blind - ECPv6.15.17.1//NONSGML v1.0//EN
CALSCALE:GREGORIAN
METHOD:PUBLISH
X-WR-CALNAME:Lighthouse for the Blind
X-ORIGINAL-URL:https://lighthousefw.org
X-WR-CALDESC:Events for Lighthouse for the Blind
REFRESH-INTERVAL;VALUE=DURATION:PT1H
X-Robots-Tag:noindex
X-PUBLISHED-TTL:PT1H
BEGIN:VTIMEZONE
TZID:America/Chicago
BEGIN:DAYLIGHT
TZOFFSETFROM:-0600
TZOFFSETTO:-0500
TZNAME:CDT
DTSTART:20220313T080000
END:DAYLIGHT
BEGIN:STANDARD
TZOFFSETFROM:-0500
TZOFFSETTO:-0600
TZNAME:CST
DTSTART:20221106T070000
END:STANDARD
BEGIN:DAYLIGHT
TZOFFSETFROM:-0600
TZOFFSETTO:-0500
TZNAME:CDT
DTSTART:20230312T080000
END:DAYLIGHT
BEGIN:STANDARD
TZOFFSETFROM:-0500
TZOFFSETTO:-0600
TZNAME:CST
DTSTART:20231105T070000
END:STANDARD
BEGIN:DAYLIGHT
TZOFFSETFROM:-0600
TZOFFSETTO:-0500
TZNAME:CDT
DTSTART:20240310T080000
END:DAYLIGHT
BEGIN:STANDARD
TZOFFSETFROM:-0500
TZOFFSETTO:-0600
TZNAME:CST
DTSTART:20241103T070000
END:STANDARD
END:VTIMEZONE
BEGIN:VEVENT
DTSTART;TZID=America/Chicago:20230111T173000
DTEND;TZID=America/Chicago:20230111T190000
DTSTAMP:20260419T234022
CREATED:20230110T162101Z
LAST-MODIFIED:20230110T162101Z
UID:6207-1673458200-1673463600@lighthousefw.org
SUMMARY:O&M Support Group
DESCRIPTION:Join us for the O&M Support Group\, which will be virtual. \nSubject: Easy At Home Exercise \n  \nJoin via ZOOM: \nLIGHTHOUSE FORT WORTH is inviting you to a scheduled Zoom meeting. \nTopic: O&M Support Group\nTime: Jan 11\, 2023 05:30 PM Central Time (US and Canada) \nJoin Zoom Meeting\nhttps://us06web.zoom.us/j/81186525519 \nMeeting ID: 811 8652 5519\nOne tap mobile\n+13462487799\,\,81186525519# US (Houston)\n+12532158782\,\,81186525519# US (Tacoma) \nDial by your location\n+1 346 248 7799 US (Houston)\n+1 253 215 8782 US (Tacoma)\n+1 669 444 9171 US\n+1 669 900 6833 US (San Jose)\n+1 719 359 4580 US\n+1 253 205 0468 US\n+1 301 715 8592 US (Washington DC)\n+1 305 224 1968 US\n+1 309 205 3325 US\n+1 312 626 6799 US (Chicago)\n+1 360 209 5623 US\n+1 386 347 5053 US\n+1 507 473 4847 US\n+1 564 217 2000 US\n+1 646 931 3860 US\n+1 689 278 1000 US\n+1 929 205 6099 US (New York)\nMeeting ID: 811 8652 5519\nFind your local number: https://us06web.zoom.us/u/kmCueCgDO \n 
URL:https://lighthousefw.org/event/om-support-group/
END:VEVENT
BEGIN:VEVENT
DTSTART;TZID=America/Chicago:20230113T100000
DTEND;TZID=America/Chicago:20230113T120000
DTSTAMP:20260419T234022
CREATED:20221121T155412Z
LAST-MODIFIED:20221121T155412Z
UID:6123-1673604000-1673611200@lighthousefw.org
SUMMARY:Move & Groove\, presented by Tarrant County Public Health
DESCRIPTION:In this class\, you will learn the basics on how to start a self-guided exercise program. This class is filled with fun activities such as hula-hooping\, chair dancing and stretching. Participation in the activities is not required and all ages are welcome!
URL:https://lighthousefw.org/event/move-groove-presented-by-tarrant-county-public-health/
LOCATION:Lighthouse for the Blind of Fort Worth\, 912 West Broadway\, Fort Worth\, TX\, 76104\, United States
END:VEVENT
BEGIN:VEVENT
DTSTART;TZID=America/Chicago:20230118T100000
DTEND;TZID=America/Chicago:20230118T110000
DTSTAMP:20260419T234022
CREATED:20230117T175245Z
LAST-MODIFIED:20230117T175245Z
UID:6215-1674036000-1674039600@lighthousefw.org
SUMMARY:Assistive Technology Support Group
DESCRIPTION:
URL:https://lighthousefw.org/event/assistive-technology-support-group-2/
LOCATION:Lighthouse for the Blind of Fort Worth\, 912 West Broadway\, Fort Worth\, TX\, 76104\, United States
END:VEVENT
BEGIN:VEVENT
DTSTART;TZID=America/Chicago:20230118T173000
DTEND;TZID=America/Chicago:20230118T183000
DTSTAMP:20260419T234022
CREATED:20230117T175115Z
LAST-MODIFIED:20230117T175115Z
UID:6212-1674063000-1674066600@lighthousefw.org
SUMMARY:Challenges In Blindness Support Group
DESCRIPTION:Join Zoom Meeting\nhttps://us06web.zoom.us/j/83453676076 \nMeeting ID: 834 5367 6076\nOne tap mobile\n+13462487799\,\,83453676076# US (Houston)\n+17193594580\,\,83453676076# US \nDial by your location\n+1 346 248 7799 US (Houston)\n+1 719 359 4580 US\n+1 253 205 0468 US\n+1 253 215 8782 US (Tacoma)\n+1 669 444 9171 US\n+1 669 900 6833 US (San Jose)\n+1 929 205 6099 US (New York)\n+1 301 715 8592 US (Washington DC)\n+1 305 224 1968 US\n+1 309 205 3325 US\n+1 312 626 6799 US (Chicago)\n+1 360 209 5623 US\n+1 386 347 5053 US\n+1 507 473 4847 US\n+1 564 217 2000 US\n+1 646 931 3860 US\n+1 689 278 1000 US\nMeeting ID: 834 5367 6076\nFind your local number: https://us06web.zoom.us/u/kb79Vo8AoM \n 
URL:https://lighthousefw.org/event/challenges-in-blindness-support-group/
LOCATION:Zoom
END:VEVENT
END:VCALENDAR