BEGIN:VCALENDAR
VERSION:2.0
PRODID:-//Lighthouse for the Blind - ECPv6.15.17.1//NONSGML v1.0//EN
CALSCALE:GREGORIAN
METHOD:PUBLISH
X-WR-CALNAME:Lighthouse for the Blind
X-ORIGINAL-URL:https://lighthousefw.org
X-WR-CALDESC:Events for Lighthouse for the Blind
REFRESH-INTERVAL;VALUE=DURATION:PT1H
X-Robots-Tag:noindex
X-PUBLISHED-TTL:PT1H
BEGIN:VTIMEZONE
TZID:America/Chicago
BEGIN:DAYLIGHT
TZOFFSETFROM:-0600
TZOFFSETTO:-0500
TZNAME:CDT
DTSTART:20190310T080000
END:DAYLIGHT
BEGIN:STANDARD
TZOFFSETFROM:-0500
TZOFFSETTO:-0600
TZNAME:CST
DTSTART:20191103T070000
END:STANDARD
BEGIN:DAYLIGHT
TZOFFSETFROM:-0600
TZOFFSETTO:-0500
TZNAME:CDT
DTSTART:20200308T080000
END:DAYLIGHT
BEGIN:STANDARD
TZOFFSETFROM:-0500
TZOFFSETTO:-0600
TZNAME:CST
DTSTART:20201101T070000
END:STANDARD
BEGIN:DAYLIGHT
TZOFFSETFROM:-0600
TZOFFSETTO:-0500
TZNAME:CDT
DTSTART:20210314T080000
END:DAYLIGHT
BEGIN:STANDARD
TZOFFSETFROM:-0500
TZOFFSETTO:-0600
TZNAME:CST
DTSTART:20211107T070000
END:STANDARD
END:VTIMEZONE
BEGIN:VEVENT
DTSTART;TZID=America/Chicago:20200601T130000
DTEND;TZID=America/Chicago:20200601T150000
DTSTAMP:20260421T030117
CREATED:20200527T164407Z
LAST-MODIFIED:20200527T164407Z
UID:5200-1591016400-1591023600@lighthousefw.org
SUMMARY:Recording Devices Tutorial
DESCRIPTION:Join us on Monday\, June 1 for a tutorial on recording devices for people who are blind or visually impaired. Tune in to learn about a variety of recorders including the Wilson digital recorder and the Pen Friend along with other devices. \nDate: June 1st \nTime: 1 – 3 PM \nTo register for this meeting\, email Rebecca at rsmith@lighthousefw.org. \n 
URL:https://lighthousefw.org/event/recording-devices-tutorial/
ORGANIZER;CN="Andrew Bernet":MAILTO:abernet@lighthousefw.org
END:VEVENT
BEGIN:VEVENT
DTSTART;TZID=America/Chicago:20200602T100000
DTEND;TZID=America/Chicago:20200602T110000
DTSTAMP:20260421T030117
CREATED:20200529T152121Z
LAST-MODIFIED:20200529T152121Z
UID:5209-1591092000-1591095600@lighthousefw.org
SUMMARY:Orientation & Mobility with Alex
DESCRIPTION: \n\n\n \n\n\nAlex Bornman\, our Orientation and Mobility Specialist\, will be discussing how to find objects once we’ve dropped them.\n\n\nTo register for this meeting\, email Rebecca at rsmith@lighthousefw.org.
URL:https://lighthousefw.org/event/orientation-mobility-with-alex/
ORGANIZER;CN="Alex Bornman":MAILTO:abornman@lighthousefw.org
END:VEVENT
BEGIN:VEVENT
DTSTART;TZID=America/Chicago:20200603T100000
DTEND;TZID=America/Chicago:20200603T120000
DTSTAMP:20260421T030117
CREATED:20200527T183913Z
LAST-MODIFIED:20200527T183913Z
UID:5203-1591178400-1591185600@lighthousefw.org
SUMMARY:Virtual Adjustment to Blindness Support Group
DESCRIPTION:Lighthouse for the Blind of Fort Worth is hosting a Virtual Adjustment to Blindness Support Group! \nWhile we continue to monitor the developing effects of the Coronavirus (COVID-19) pandemic\, we would like to stay in communication as much as possible. For the time being\, we’ve decided to host weekly (virtual) support groups and will try to have a guest speaker each week. \nThis week\, June 3rd\, we are excited to have Kevin Markel. Kevin is a Statewide Transition Program Specialist for the Texas Workforce Commission – Vocational Rehabilitation Division.  He has worked for this agency for 16 years in his current role\, and previously\, as a Transition Vocational Rehabilitation Counselor in the Ft. Worth area.  Mr. Markel holds an M.S. in Rehabilitation Counseling from the University of North Texas. \nDate: June 3 \nTime: 10 AM – 12 PM \nTo register for this meeting\, email Rebecca at rsmith@lighthousefw.org.
URL:https://lighthousefw.org/event/virtual-adjustment-to-blindness-support-group-3/
ORGANIZER;CN="Kevin Higgins":MAILTO:khiggins@lighthousefw.org
END:VEVENT
BEGIN:VEVENT
DTSTART;TZID=America/Chicago:20200608T130000
DTEND;TZID=America/Chicago:20200608T150000
DTSTAMP:20260421T030117
CREATED:20200603T133654Z
LAST-MODIFIED:20200603T133654Z
UID:5224-1591621200-1591628400@lighthousefw.org
SUMMARY:Handheld Magnifiers
DESCRIPTION:Join us on Monday\, June 8th\, for a tutorial on handheld magnifiers. The tutorial will cover magnification  devices such as lighted magnifiers\, pocket magnifiers\, handheld CCTVs\, and magnification options available on IOS devices. \nDate: Monday June 8 \nTime: 1:00 p.m. \nTo register for this meeting\, email Rebecca at rsmith@lighthousefw.org.
URL:https://lighthousefw.org/event/handheld-magnifiers/
ORGANIZER;CN="Kevin Higgins":MAILTO:khiggins@lighthousefw.org
END:VEVENT
BEGIN:VEVENT
DTSTART;TZID=America/Chicago:20200609T100000
DTEND;TZID=America/Chicago:20200609T110000
DTSTAMP:20260421T030117
CREATED:20200604T203156Z
LAST-MODIFIED:20200604T203156Z
UID:5228-1591696800-1591700400@lighthousefw.org
SUMMARY:O & M Weekly Tip
DESCRIPTION:Alex Bornman\, our Orientation and Mobility Specialist\, will be giving us her weekly O & M Tip \nDate: Tuesday June 9 \nTime: 10 AM \nTo register for this meeting\, email Rebecca at rsmith@lighthousefw.org.
URL:https://lighthousefw.org/event/o-m-weekly-tip/
ORGANIZER;CN="Alex Bornman":MAILTO:abornman@lighthousefw.org
END:VEVENT
BEGIN:VEVENT
DTSTART;TZID=America/Chicago:20200610T100000
DTEND;TZID=America/Chicago:20200610T120000
DTSTAMP:20260421T030117
CREATED:20200604T203349Z
LAST-MODIFIED:20200604T203349Z
UID:5230-1591783200-1591790400@lighthousefw.org
SUMMARY:Weekly Virtual Support Group
DESCRIPTION:We are excited to feature a few of our Lighthouse Employees! Tune in to listen to their stories about how Lighthouse for the Blind of Fort Worth has impacted their lives.\n\nDate: Wednesday\, June 10\n\nTime: 10 AM – 12 PM\n\nTo register for this meeting\, email Rebecca at rsmith@lighthousefw.org.
URL:https://lighthousefw.org/event/weekly-virtual-support-group-3/
ORGANIZER;CN="Kevin Higgins":MAILTO:khiggins@lighthousefw.org
END:VEVENT
BEGIN:VEVENT
DTSTART;TZID=America/Chicago:20200611T120000
DTEND;TZID=America/Chicago:20200611T140000
DTSTAMP:20260421T030117
CREATED:20200604T203451Z
LAST-MODIFIED:20200604T203451Z
UID:5232-1591876800-1591884000@lighthousefw.org
SUMMARY:Facebook Tutorial
DESCRIPTION:Come join us to learn how to navigate Facebook for both mobile and desktop.\n\nDate: Thursday\, June 11\n\nTime: 12 – 2 PM\n\nTo register for this meeting\, email Rebecca at rsmith@lighthousefw.org.
URL:https://lighthousefw.org/event/facebook-tutorial/
ORGANIZER;CN="Shawn Keen":MAILTO:skeen@lighthousefw.org
END:VEVENT
BEGIN:VEVENT
DTSTART;TZID=America/Chicago:20200616T130000
DTEND;TZID=America/Chicago:20200616T150000
DTSTAMP:20260421T030117
CREATED:20200611T204232Z
LAST-MODIFIED:20200615T155554Z
UID:5244-1592312400-1592319600@lighthousefw.org
SUMMARY:Perkins Braille Writer Tutorial
DESCRIPTION:Join us on Tuesday\, June 16 for a tutorial on how to use the Perkins Braille writer.  Tune in to learn the essentials for using the Braille writer as well as other Braille related writing devices. \nDate: Tuesday\, June 16 \nTime: 1:00 p.m. \nTo register for this meeting\, email Rebecca at rsmith@lighthousefw.org.
URL:https://lighthousefw.org/event/perkins-braille-writer-tutorial/
ORGANIZER;CN="Kevin Higgins":MAILTO:khiggins@lighthousefw.org
END:VEVENT
BEGIN:VEVENT
DTSTART;TZID=America/Chicago:20200617T100000
DTEND;TZID=America/Chicago:20200617T120000
DTSTAMP:20260421T030117
CREATED:20200611T210138Z
LAST-MODIFIED:20200611T210138Z
UID:5246-1592388000-1592395200@lighthousefw.org
SUMMARY:Weekly Virtual Support Group
DESCRIPTION:We are excited to have Lisa Fellers\, our Head of Development\, join us to discuss how our programs are funded and how you can help.\n\nDate: Wednesday\, June 17\n\nTime: 10 AM – 12 PM\n\nTo register for this meeting\, email Rebecca at rsmith@lighthousefw.org.
URL:https://lighthousefw.org/event/weekly-virtual-support-group-4/
END:VEVENT
BEGIN:VEVENT
DTSTART;TZID=America/Chicago:20200624T160000
DTEND;TZID=America/Chicago:20200624T170000
DTSTAMP:20260421T030117
CREATED:20200618T215642Z
LAST-MODIFIED:20200618T215642Z
UID:5259-1593014400-1593018000@lighthousefw.org
SUMMARY:Ask the Blind Guys
DESCRIPTION:Feel free to join us and ask any\, and we mean ANY\, questions you may have about blindness. You can ask during the meeting or email ahead to AskTheBlindGuys@lighthousefw.org.\n\n\nDate: Wednesday\, June 24\n\nTime: 4 – 5 PM\n\nTo register for this meeting\, email Rebecca at rsmith@lighthousefw.org.
URL:https://lighthousefw.org/event/ask-the-blind-guys/
END:VEVENT
BEGIN:VEVENT
DTSTART;TZID=America/Chicago:20200629T130000
DTEND;TZID=America/Chicago:20200629T153000
DTSTAMP:20260421T030117
CREATED:20200618T214506Z
LAST-MODIFIED:20200618T214506Z
UID:5257-1593435600-1593444600@lighthousefw.org
SUMMARY:Virtual Cookout
DESCRIPTION:Join us on Monday June 29 at 1:00 p.m. for a virtual cookout experience! Tune in to learn best practices for using a George Foremen Grill as well as how to determine when hamburger meat has been properly cooked. Those tuning in are welcome to follow along from home while we cookout live from the Lighthouse in preparation for the 4th of July! \nGrocery List: \n\n2 pounds Ground Beef\nHamburger Buns\nSliced Cheese\nSliced Pickles\nGarlic Powder or salt (insert season preference)\nMustard or ketchup\n\nMaterials: \n\nGeorge Foremen Grill\nSpatula\nCookie Sheet\nMixing Bowl\nOven mitt or pot holder\nPlates (paper or otherwise)\nForks\n\n  \n\nDate: Monday\, June 29\n\nTime: 1 PM\n\nTo register for this meeting\, email Rebecca at rsmith@lighthousefw.org.
URL:https://lighthousefw.org/event/virtual-cookout/
ORGANIZER;CN="Kevin Higgins":MAILTO:khiggins@lighthousefw.org
END:VEVENT
END:VCALENDAR