BEGIN:VCALENDAR
VERSION:2.0
PRODID:-//Lighthouse for the Blind - ECPv6.15.17.1//NONSGML v1.0//EN
CALSCALE:GREGORIAN
METHOD:PUBLISH
X-ORIGINAL-URL:https://lighthousefw.org
X-WR-CALDESC:Events for Lighthouse for the Blind
REFRESH-INTERVAL;VALUE=DURATION:PT1H
X-Robots-Tag:noindex
X-PUBLISHED-TTL:PT1H
BEGIN:VTIMEZONE
TZID:America/Chicago
BEGIN:DAYLIGHT
TZOFFSETFROM:-0600
TZOFFSETTO:-0500
TZNAME:CDT
DTSTART:20180311T080000
END:DAYLIGHT
BEGIN:STANDARD
TZOFFSETFROM:-0500
TZOFFSETTO:-0600
TZNAME:CST
DTSTART:20181104T070000
END:STANDARD
BEGIN:DAYLIGHT
TZOFFSETFROM:-0600
TZOFFSETTO:-0500
TZNAME:CDT
DTSTART:20190310T080000
END:DAYLIGHT
BEGIN:STANDARD
TZOFFSETFROM:-0500
TZOFFSETTO:-0600
TZNAME:CST
DTSTART:20191103T070000
END:STANDARD
BEGIN:DAYLIGHT
TZOFFSETFROM:-0600
TZOFFSETTO:-0500
TZNAME:CDT
DTSTART:20200308T080000
END:DAYLIGHT
BEGIN:STANDARD
TZOFFSETFROM:-0500
TZOFFSETTO:-0600
TZNAME:CST
DTSTART:20201101T070000
END:STANDARD
END:VTIMEZONE
BEGIN:VEVENT
DTSTART;VALUE=DATE:20190919
DTEND;VALUE=DATE:20190920
DTSTAMP:20260421T161000
CREATED:20190912T195051Z
LAST-MODIFIED:20190912T195051Z
UID:4819-1568851200-1568937599@lighthousefw.org
SUMMARY:North Texas Giving Day!
DESCRIPTION:With the help for our community\, we are able to purchase Closed Circuit TVs (CCTV) and loan them out at no charge to help individuals with low vision regain their visual independence. \nThe majority of clients who need a CCTV are adults over the age of 60 living on a fixed income and simply cannot afford to buy one. By using a CCTV\, they are able to read their mail privately\, read the newspaper\, recipes\, books and any other form of print or written material. Some of the ladies even use their CCTVs to manicure their fingernails! \nCCTVs typically cost between $3\,500 and $4000 per unit\, depending upon the features and if the audible speech component (OCR) is included. \nPlease rally around this cause and help us purchase five new CCTVs with OCR totaling $20\,000. As long as we can continue helping people do what they’ve always done prior to their loss of vision\, then we’re giving them the priceless gift of INDEPENDENCE! \nAs Texans\, we know everything we do is bigger and better! What’s more fun than setting a Lighthouse record in generosity?! Help us reach our North Texas Giving Day goal of $20\,000 on Sept. 19th\, making 2019 our biggest and best year! \nDonate online at http://bit.ly/LFBFW
URL:https://lighthousefw.org/event/north-texas-giving-day/
ORGANIZER;CN="Rebecca Smith":MAILTO:rsmith@lighthousefw.org
END:VEVENT
END:VCALENDAR