BEGIN:VCALENDAR
VERSION:2.0
PRODID:-//Lighthouse for the Blind - ECPv6.15.17.1//NONSGML v1.0//EN
CALSCALE:GREGORIAN
METHOD:PUBLISH
X-ORIGINAL-URL:https://lighthousefw.org
X-WR-CALDESC:Events for Lighthouse for the Blind
REFRESH-INTERVAL;VALUE=DURATION:PT1H
X-Robots-Tag:noindex
X-PUBLISHED-TTL:PT1H
BEGIN:VTIMEZONE
TZID:America/Chicago
BEGIN:DAYLIGHT
TZOFFSETFROM:-0600
TZOFFSETTO:-0500
TZNAME:CDT
DTSTART:20180311T080000
END:DAYLIGHT
BEGIN:STANDARD
TZOFFSETFROM:-0500
TZOFFSETTO:-0600
TZNAME:CST
DTSTART:20181104T070000
END:STANDARD
BEGIN:DAYLIGHT
TZOFFSETFROM:-0600
TZOFFSETTO:-0500
TZNAME:CDT
DTSTART:20190310T080000
END:DAYLIGHT
BEGIN:STANDARD
TZOFFSETFROM:-0500
TZOFFSETTO:-0600
TZNAME:CST
DTSTART:20191103T070000
END:STANDARD
BEGIN:DAYLIGHT
TZOFFSETFROM:-0600
TZOFFSETTO:-0500
TZNAME:CDT
DTSTART:20200308T080000
END:DAYLIGHT
BEGIN:STANDARD
TZOFFSETFROM:-0500
TZOFFSETTO:-0600
TZNAME:CST
DTSTART:20201101T070000
END:STANDARD
END:VTIMEZONE
BEGIN:VEVENT
DTSTART;TZID=America/Chicago:20190204T100000
DTEND;TZID=America/Chicago:20190204T113000
DTSTAMP:20260422T021920
CREATED:20190128T174454Z
LAST-MODIFIED:20190128T174454Z
UID:4547-1549274400-1549279800@lighthousefw.org
SUMMARY:Keyboarding Class
DESCRIPTION:Do your keyboarding skills need improvement? Not sure what the ALT or Control keys are for? Are you looking to re-enter the workforce\, but need to improve your typing skills? \nIf you answered yes to any of the above questions\, join Shawn Keen for his weekly keyboarding class! Classes are held every Monday\, 10:00 – 11:30 am. \nPlease RSVP to Shawn at skeen@lighthousefw.org or call 817-529-7811.
URL:https://lighthousefw.org/event/keyboarding-class-10/
LOCATION:Lighthouse for the Blind of Fort Worth\, 912 West Broadway\, Fort Worth\, TX\, 76104\, United States
ORGANIZER;CN="Shawn Keen":MAILTO:skeen@lighthousefw.org
END:VEVENT
BEGIN:VEVENT
DTSTART;TZID=America/Chicago:20190206T100000
DTEND;TZID=America/Chicago:20190206T120000
DTSTAMP:20260422T021920
CREATED:20190128T175726Z
LAST-MODIFIED:20190129T192037Z
UID:4555-1549447200-1549454400@lighthousefw.org
SUMMARY:Support Group
DESCRIPTION:Every month we host Support Group for people who are visually impaired or blind. Our adjustment to blindness support group is intended to help people in the blindness community connect with others who have the shared experience of vision loss\, while providing information about resources and teaching strategies and approaches to coping with vision loss \nPlease join us every first Wednesday of the month. \nSupport Groups are hosted by Kevin Higgins our Certified Vision Rehabilitation Specialist.
URL:https://lighthousefw.org/event/support-group-11/
LOCATION:Lighthouse for the Blind of Fort Worth\, 912 West Broadway\, Fort Worth\, TX\, 76104\, United States
ORGANIZER;CN="Kevin Higgins":MAILTO:khiggins@lighthousefw.org
END:VEVENT
BEGIN:VEVENT
DTSTART;TZID=America/Chicago:20190206T120000
DTEND;TZID=America/Chicago:20190206T133000
DTSTAMP:20260422T021920
CREATED:20190128T180912Z
LAST-MODIFIED:20190128T180912Z
UID:4559-1549454400-1549459800@lighthousefw.org
SUMMARY:Apple iOS Users Class
DESCRIPTION:Since the release of the iPhone in 2007\, Apple has taken great strides to make sure all of their products are accessible to people with disabilities. Join us as we learn more about the great features that are contained in these devices. \nApple iOS Users Group \nTopics may include: \n\nLearning to use the iPhone\, iPad\, etc.\nAdvanced voice over and accessibility features\nUseful apps for blind and low vision users\nDemos of other apple products such as the Apple TV\n\nMeetings will be held the first Wednesday of the month at the Lighthouse for the blind from 12:00 to 1:30 PM. Feel free to bring your ideas and suggestions. \nIf you have any questions contact Shawn Keen\, skeen@lighthousefw.org or 817-529-7811
URL:https://lighthousefw.org/event/apple-ios-users-class/
LOCATION:Lighthouse for the Blind of Fort Worth\, 912 West Broadway\, Fort Worth\, TX\, 76104\, United States
ORGANIZER;CN="Shawn Keen":MAILTO:skeen@lighthousefw.org
END:VEVENT
BEGIN:VEVENT
DTSTART;TZID=America/Chicago:20190211T100000
DTEND;TZID=America/Chicago:20190211T113000
DTSTAMP:20260422T021920
CREATED:20190128T174626Z
LAST-MODIFIED:20190128T174626Z
UID:4549-1549879200-1549884600@lighthousefw.org
SUMMARY:Keyboarding Class
DESCRIPTION:Do your keyboarding skills need improvement? Not sure what the ALT or Control keys are for? Are you looking to re-enter the workforce\, but need to improve your typing skills? \nIf you answered yes to any of the above questions\, join Shawn Keen for his weekly keyboarding class! Classes are held every Monday\, 10:00 – 11:30 am. \nPlease RSVP to Shawn at skeen@lighthousefw.org or call 817-529-7811.
URL:https://lighthousefw.org/event/keyboarding-class-11/
LOCATION:Lighthouse for the Blind of Fort Worth\, 912 West Broadway\, Fort Worth\, TX\, 76104\, United States
ORGANIZER;CN="Shawn Keen":MAILTO:skeen@lighthousefw.org
END:VEVENT
BEGIN:VEVENT
DTSTART;TZID=America/Chicago:20190216T140000
DTEND;TZID=America/Chicago:20190216T160000
DTSTAMP:20260422T021920
CREATED:20190211T150928Z
LAST-MODIFIED:20190211T150928Z
UID:4592-1550325600-1550332800@lighthousefw.org
SUMMARY:February Blind Dine
DESCRIPTION:February’s Blind Dine will be held at Fort Brewery & Pizza – February 16th\, 2 to 4 pm. \nFort Brewery & Pizza is located at 1001 W. Magnolia Ave\, Fort Worth\, TX 76104. \n  \nCome out and enjoy great food & friends! \nWe will have a low vision and Braille menu available on site. \nFor more info\, contact skeen@lighthousefw.org or call 817-332-3341.
URL:https://lighthousefw.org/event/february-blind-dine/
LOCATION:Fort Brewery & Pizza\, 1001 W. Magnolia Ave\, Fort Worth\, TX\, 76104\, United States
ORGANIZER;CN="Shawn Keen":MAILTO:skeen@lighthousefw.org
END:VEVENT
BEGIN:VEVENT
DTSTART;TZID=America/Chicago:20190218T100000
DTEND;TZID=America/Chicago:20190218T113000
DTSTAMP:20260422T021920
CREATED:20190128T175017Z
LAST-MODIFIED:20190128T175017Z
UID:4551-1550484000-1550489400@lighthousefw.org
SUMMARY:Keyboarding Class
DESCRIPTION:Do your keyboarding skills need improvement? Not sure what the ALT or Control keys are for? Are you looking to re-enter the workforce\, but need to improve your typing skills? \nIf you answered yes to any of the above questions\, join Shawn Keen for his weekly keyboarding class! Classes are held every Monday\, 10:00 – 11:30 am. \nPlease RSVP to Shawn at skeen@lighthousefw.org or call 817-529-7811.
URL:https://lighthousefw.org/event/keyboarding-class-12/
LOCATION:Lighthouse for the Blind of Fort Worth\, 912 West Broadway\, Fort Worth\, TX\, 76104\, United States
ORGANIZER;CN="Shawn Keen":MAILTO:skeen@lighthousefw.org
END:VEVENT
BEGIN:VEVENT
DTSTART;TZID=America/Chicago:20190225T100000
DTEND;TZID=America/Chicago:20190225T113000
DTSTAMP:20260422T021920
CREATED:20190128T175207Z
LAST-MODIFIED:20190128T175207Z
UID:4553-1551088800-1551094200@lighthousefw.org
SUMMARY:Keyboarding Class
DESCRIPTION:Do your keyboarding skills need improvement? Not sure what the ALT or Control keys are for? Are you looking to re-enter the workforce\, but need to improve your typing skills? \nIf you answered yes to any of the above questions\, join Shawn Keen for his weekly keyboarding class! Classes are held every Monday\, 10:00 – 11:30 am. \nPlease RSVP to Shawn at skeen@lighthousefw.org or call 817-529-7811.
URL:https://lighthousefw.org/event/keyboarding-class-13/
LOCATION:Lighthouse for the Blind of Fort Worth\, 912 West Broadway\, Fort Worth\, TX\, 76104\, United States
ORGANIZER;CN="Shawn Keen":MAILTO:skeen@lighthousefw.org
END:VEVENT
END:VCALENDAR