BEGIN:VCALENDAR
VERSION:2.0
PRODID:-//Lighthouse for the Blind - ECPv6.15.17.1//NONSGML v1.0//EN
CALSCALE:GREGORIAN
METHOD:PUBLISH
X-WR-CALNAME:Lighthouse for the Blind
X-ORIGINAL-URL:https://lighthousefw.org
X-WR-CALDESC:Events for Lighthouse for the Blind
REFRESH-INTERVAL;VALUE=DURATION:PT1H
X-Robots-Tag:noindex
X-PUBLISHED-TTL:PT1H
BEGIN:VTIMEZONE
TZID:America/Chicago
BEGIN:DAYLIGHT
TZOFFSETFROM:-0600
TZOFFSETTO:-0500
TZNAME:CDT
DTSTART:20170312T080000
END:DAYLIGHT
BEGIN:STANDARD
TZOFFSETFROM:-0500
TZOFFSETTO:-0600
TZNAME:CST
DTSTART:20171105T070000
END:STANDARD
BEGIN:DAYLIGHT
TZOFFSETFROM:-0600
TZOFFSETTO:-0500
TZNAME:CDT
DTSTART:20180311T080000
END:DAYLIGHT
BEGIN:STANDARD
TZOFFSETFROM:-0500
TZOFFSETTO:-0600
TZNAME:CST
DTSTART:20181104T070000
END:STANDARD
BEGIN:DAYLIGHT
TZOFFSETFROM:-0600
TZOFFSETTO:-0500
TZNAME:CDT
DTSTART:20190310T080000
END:DAYLIGHT
BEGIN:STANDARD
TZOFFSETFROM:-0500
TZOFFSETTO:-0600
TZNAME:CST
DTSTART:20191103T070000
END:STANDARD
END:VTIMEZONE
BEGIN:VEVENT
DTSTART;TZID=America/Chicago:20180606T100000
DTEND;TZID=America/Chicago:20180606T120000
DTSTAMP:20260422T135308
CREATED:20180502T155152Z
LAST-MODIFIED:20180502T155152Z
UID:3626-1528279200-1528286400@lighthousefw.org
SUMMARY:Support Group
DESCRIPTION:Every month we host Support Group for people who are visually impaired or blind. \nPlease join us every first Wednesday of the month. \nSupport Groups are hosted by Kevin Higgins our Certified Vision Rehabilitation Specialist.
URL:https://lighthousefw.org/event/support-group-5/
LOCATION:Lighthouse for the Blind of Fort Worth\, 912 West Broadway\, Fort Worth\, TX\, 76104\, United States
END:VEVENT
BEGIN:VEVENT
DTSTART;TZID=America/Chicago:20180606T123000
DTEND;TZID=America/Chicago:20180606T140000
DTSTAMP:20260422T135308
CREATED:20180502T155414Z
LAST-MODIFIED:20180529T144743Z
UID:3630-1528288200-1528293600@lighthousefw.org
SUMMARY:Apple iOS User Group
DESCRIPTION:Since the release of the iPhone in 2007\, Apple has taken great strides to make sure all of their products are accessible to people with disabilities. Join us as we learn more about the great features that are contained in these devices. \nApple iOS Users Group \nTopics may include: \n\nLearning to use the iPhone\, iPad\, etc.\nAdvanced voice over and accessibility features\nUseful apps for blind and low vision users\nDemos of other apple products such as the Apple TV\n\nMeetings will be held the first Wednesday of the month at the Lighthouse for the blind from 12:00 to 2:00 PM. Feel free to bring your ideas and suggestions. \nIf you have any questions contact Shawn Keen \nskeen@lighthousefw.org or 817-529-7811 \nRSVP here.
URL:https://lighthousefw.org/event/apple-ios-user-group/
LOCATION:Lighthouse for the Blind of Fort Worth\, 912 West Broadway\, Fort Worth\, TX\, 76104\, United States
END:VEVENT
BEGIN:VEVENT
DTSTART;TZID=America/Chicago:20180609T140000
DTEND;TZID=America/Chicago:20180609T160000
DTSTAMP:20260422T135308
CREATED:20180604T210951Z
LAST-MODIFIED:20180604T210951Z
UID:3690-1528552800-1528560000@lighthousefw.org
SUMMARY:June Blind Dine
DESCRIPTION:June’s Blind Dine will be held at Chimy’s – Saturday\, June 9th\, 2 pm to 4 pm. \nChimy’s is located at 1053 Foch St\, Fort Worth\, TX 76107. \nPlease RSVP by Thursday\, June 7th. \nCome out and enjoy great food & friends! \nWe will have a low vision and Braille menu available on site. \nFor more info\, contact skeen@lighthousefw.org or call 817-332-3341.
URL:https://lighthousefw.org/event/june-blind-dine/
LOCATION:Chimy’s\, 1053 Foch St\, Fort Worth\, TX\, 76107\, United States
END:VEVENT
BEGIN:VEVENT
DTSTART;TZID=America/Chicago:20180612T080000
DTEND;TZID=America/Chicago:20180612T170000
DTSTAMP:20260422T135308
CREATED:20180612T160508Z
LAST-MODIFIED:20180612T160508Z
UID:3702-1528790400-1528822800@lighthousefw.org
SUMMARY:Cooking Without Looking
DESCRIPTION:Join Kevin Higgins on Wednesday\, June 27th\, 9:30 am to 11:30 am for our monthly Cooking Without Looking presented by Gus Bates Insurance & Investments! \nThis month we will learn how to prepare Turkey Burgers. As part of the lesson we will be covering the following techniques and skills. \n\nUsing appliances such as electric grills in a safe and efficient manner.\nOrganizing materials and ingredients efficiently.\nCutting and chopping various food items safely.\nDetermining when the meat is done by way of other senses such as touch\, hearing\, and smell.\n\nPlease RSVP by Monday\, June 25th to Kevin Higgins at khiggins@lighthousefw.org or 817-332-3341. \nClick Here to RSVP
URL:https://lighthousefw.org/event/cooking-without-looking-7/
END:VEVENT
BEGIN:VEVENT
DTSTART;TZID=America/Chicago:20180612T163000
DTEND;TZID=America/Chicago:20180612T171500
DTSTAMP:20260422T135308
CREATED:20180502T155653Z
LAST-MODIFIED:20180502T155653Z
UID:3634-1528821000-1528823700@lighthousefw.org
SUMMARY:Advocacy Class
DESCRIPTION:Looking for a way to make sure your voice is heard correctly when advocating for your needs due to vision loss? \nJoin Andrew Bernet Tuesday\, June 12th 4:30 pm – 5:15 pm for his monthly advocacy class. \nContact Andrew at abernet@lighthousefw.org or 817.332.3341 for more information.
URL:https://lighthousefw.org/event/advocacy-class-3/
LOCATION:Lighthouse for the Blind of Fort Worth\, 912 West Broadway\, Fort Worth\, TX\, 76104\, United States
END:VEVENT
BEGIN:VEVENT
DTSTART;TZID=America/Chicago:20180614T180000
DTEND;TZID=America/Chicago:20180614T200000
DTSTAMP:20260422T135308
CREATED:20180612T130411Z
LAST-MODIFIED:20180612T130411Z
UID:3699-1528999200-1529006400@lighthousefw.org
SUMMARY:Pedestrian & Bicycle Advisory Commission Meeting
DESCRIPTION:The City of Fort Worth will be holding a meeting to discuss items such as: \n\nRegional Bicycle Opinion Survey\nPedestrian Easements\nWest 7th Street Reconstruction Project\nEast 1st Street Bicycle & Pedestrian Safety Improvements\nActive Transportation Plan Update\n\nPlease join us to voice concerns and suggestions.
URL:https://lighthousefw.org/event/pedestrian-bicycle-advisory-commission-meeting/
LOCATION:Hazel Harvey Peace Center for Neighborhoods\, 818 Missouri Ave\, Fort Worth\, TX\, 76104\, United States
END:VEVENT
END:VCALENDAR