BEGIN:VCALENDAR
VERSION:2.0
PRODID:-//Lighthouse for the Blind - ECPv6.15.17.1//NONSGML v1.0//EN
CALSCALE:GREGORIAN
METHOD:PUBLISH
X-WR-CALNAME:Lighthouse for the Blind
X-ORIGINAL-URL:https://lighthousefw.org
X-WR-CALDESC:Events for Lighthouse for the Blind
REFRESH-INTERVAL;VALUE=DURATION:PT1H
X-Robots-Tag:noindex
X-PUBLISHED-TTL:PT1H
BEGIN:VTIMEZONE
TZID:America/Chicago
BEGIN:DAYLIGHT
TZOFFSETFROM:-0600
TZOFFSETTO:-0500
TZNAME:CDT
DTSTART:20160313T080000
END:DAYLIGHT
BEGIN:STANDARD
TZOFFSETFROM:-0500
TZOFFSETTO:-0600
TZNAME:CST
DTSTART:20161106T070000
END:STANDARD
BEGIN:DAYLIGHT
TZOFFSETFROM:-0600
TZOFFSETTO:-0500
TZNAME:CDT
DTSTART:20170312T080000
END:DAYLIGHT
BEGIN:STANDARD
TZOFFSETFROM:-0500
TZOFFSETTO:-0600
TZNAME:CST
DTSTART:20171105T070000
END:STANDARD
BEGIN:DAYLIGHT
TZOFFSETFROM:-0600
TZOFFSETTO:-0500
TZNAME:CDT
DTSTART:20180311T080000
END:DAYLIGHT
BEGIN:STANDARD
TZOFFSETFROM:-0500
TZOFFSETTO:-0600
TZNAME:CST
DTSTART:20181104T070000
END:STANDARD
END:VTIMEZONE
BEGIN:VEVENT
DTSTART;TZID=America/Chicago:20170909T140000
DTEND;TZID=America/Chicago:20170909T160000
DTSTAMP:20260423T024113
CREATED:20170829T141935Z
LAST-MODIFIED:20170829T141935Z
UID:3294-1504965600-1504972800@lighthousefw.org
SUMMARY:Blind Dine
DESCRIPTION:September’s Blind Dine will be held at Fred’s Cafe – Saturday\, September 9th 2 pm to 4 pm. \nFred’s is located a: 915 Currie St\, Fort Worth\, TX 76107 \nCome out and enjoy great food & friends! \nWe will have a low vision and Braille menu available on site. \nPlease RSVP no later than Wednesday\, September 6th.\nFor more info\, contact skeen@lighthousefw.org or call 817-332-3341.
URL:https://lighthousefw.org/event/blind-dine-4/
END:VEVENT
BEGIN:VEVENT
DTSTART;TZID=America/Chicago:20170927T093000
DTEND;TZID=America/Chicago:20170927T113000
DTSTAMP:20260423T024113
CREATED:20170918T190226Z
LAST-MODIFIED:20170918T190226Z
UID:3336-1506504600-1506511800@lighthousefw.org
SUMMARY:Cooking Without Looking presented by Gus Bates Insurance & Investments
DESCRIPTION:Join Kevin Higgins on Wednesday\, September 27th\, 9:30 a.m. to 11:30 a.m. for our monthly Cooking Without Looking Presented By GUS BATES Insurance & Investments! \nThis month we’ll be learning how to make Shish Kabobs on the grill! \nCome join us for some fun! \nPlease RSVP by Monday\, September 25th. \nFor more information\, contact Kevin Higgins at khiggins@lighthousefw.org or call 817.332.3341.
URL:https://lighthousefw.org/event/cooking-without-looking-presented-gus-bates-insurance-investments/
LOCATION:Lighthouse for the Blind of Fort Worth\, 912 West Broadway\, Fort Worth\, TX\, 76104\, United States
END:VEVENT
END:VCALENDAR