BEGIN:VCALENDAR
VERSION:2.0
PRODID:-//Lighthouse for the Blind - ECPv6.15.17.1//NONSGML v1.0//EN
CALSCALE:GREGORIAN
METHOD:PUBLISH
X-WR-CALNAME:Lighthouse for the Blind
X-ORIGINAL-URL:https://lighthousefw.org
X-WR-CALDESC:Events for Lighthouse for the Blind
REFRESH-INTERVAL;VALUE=DURATION:PT1H
X-Robots-Tag:noindex
X-PUBLISHED-TTL:PT1H
BEGIN:VTIMEZONE
TZID:America/Chicago
BEGIN:DAYLIGHT
TZOFFSETFROM:-0600
TZOFFSETTO:-0500
TZNAME:CDT
DTSTART:20160313T080000
END:DAYLIGHT
BEGIN:STANDARD
TZOFFSETFROM:-0500
TZOFFSETTO:-0600
TZNAME:CST
DTSTART:20161106T070000
END:STANDARD
BEGIN:DAYLIGHT
TZOFFSETFROM:-0600
TZOFFSETTO:-0500
TZNAME:CDT
DTSTART:20170312T080000
END:DAYLIGHT
BEGIN:STANDARD
TZOFFSETFROM:-0500
TZOFFSETTO:-0600
TZNAME:CST
DTSTART:20171105T070000
END:STANDARD
BEGIN:DAYLIGHT
TZOFFSETFROM:-0600
TZOFFSETTO:-0500
TZNAME:CDT
DTSTART:20180311T080000
END:DAYLIGHT
BEGIN:STANDARD
TZOFFSETFROM:-0500
TZOFFSETTO:-0600
TZNAME:CST
DTSTART:20181104T070000
END:STANDARD
END:VTIMEZONE
BEGIN:VEVENT
DTSTART;TZID=America/Chicago:20170809T100000
DTEND;TZID=America/Chicago:20170809T120000
DTSTAMP:20260423T040230
CREATED:20170724T144310Z
LAST-MODIFIED:20170724T144310Z
UID:3257-1502272800-1502280000@lighthousefw.org
SUMMARY:Support Group - New
DESCRIPTION:Every month we host two Support Groups for people who are visually impaired or blind. \nOur morning support group is for people that are new to visual impairment. \nSupport Groups are hosted by Kevin Higgins our Certified Vision Rehabilitation Specialist.
URL:https://lighthousefw.org/event/support-group-new-5/
LOCATION:Lighthouse for the Blind of Fort Worth\, 912 West Broadway\, Fort Worth\, TX\, 76104\, United States
END:VEVENT
BEGIN:VEVENT
DTSTART;TZID=America/Chicago:20170809T140000
DTEND;TZID=America/Chicago:20170809T160000
DTSTAMP:20260423T040230
CREATED:20170724T144509Z
LAST-MODIFIED:20170724T144509Z
UID:3259-1502287200-1502294400@lighthousefw.org
SUMMARY:Support Group - Returning
DESCRIPTION:Every month we host two Support Groups for people who are visually impaired or blind. \nOur afternoon support group is for people that are no longer new to visual impairment. \nSupport Groups are hosted by Kevin Higgins our Certified Vision Rehabilitation Specialist.
URL:https://lighthousefw.org/event/support-group-returning-5/
LOCATION:Lighthouse for the Blind of Fort Worth\, 912 West Broadway\, Fort Worth\, TX\, 76104\, United States
END:VEVENT
BEGIN:VEVENT
DTSTART;TZID=America/Chicago:20170812T140000
DTEND;TZID=America/Chicago:20170812T160000
DTSTAMP:20260423T040230
CREATED:20170718T203411Z
LAST-MODIFIED:20170718T203411Z
UID:3253-1502546400-1502553600@lighthousefw.org
SUMMARY:Blind Dine
DESCRIPTION:August’s Blind Dine will be held at West Side Cafe – Saturday\, August 12th 2 pm to 4 pm. \nWest Side Cafe is a great country cooking restaurant located off Camp Bowie W Blvd. Please RSVP by Wednesday\, August 9th. \nCome out and enjoy great food & friends! \nWe will have a low vision and Braille menu available on site. \nPlease RSVP no later than Wednesday\, August 9th.\nFor more info\, contact rsmith@lighthousefw.org or call 817-332-3341.
URL:https://lighthousefw.org/event/blind-dine-3/
LOCATION:Lighthouse for the Blind of Fort Worth\, 912 West Broadway\, Fort Worth\, TX\, 76104\, United States
END:VEVENT
BEGIN:VEVENT
DTSTART;TZID=America/Chicago:20170830T093000
DTEND;TZID=America/Chicago:20170830T233000
DTSTAMP:20260423T040230
CREATED:20170815T165817Z
LAST-MODIFIED:20170816T221100Z
UID:3277-1504085400-1504135800@lighthousefw.org
SUMMARY:Cooking Without Looking Presented By GUS BATES Insurance & Investments
DESCRIPTION:Join Kevin Higgins on Wednesday\, August 30th\, 9:30 a.m. to 11:30 a.m. for our monthly Cooking Without Looking Presented By GUS BATES Insurance & Investments! \nThis month we’ll be learning how to make delicious tortilla soup. \nCome join us for some fun! \nPlease RSVP by Monday\, August 28th. \nFor more information\, contact Kevin Higgins at khiggins@lighthousefw.org or call 817.332.3341.
URL:https://lighthousefw.org/event/cooking-without-looking-4/
LOCATION:Lighthouse for the Blind of Fort Worth\, 912 West Broadway\, Fort Worth\, TX\, 76104\, United States
END:VEVENT
END:VCALENDAR