BEGIN:VCALENDAR
VERSION:2.0
PRODID:-//Lighthouse for the Blind - ECPv6.15.17.1//NONSGML v1.0//EN
CALSCALE:GREGORIAN
METHOD:PUBLISH
X-WR-CALNAME:Lighthouse for the Blind
X-ORIGINAL-URL:https://lighthousefw.org
X-WR-CALDESC:Events for Lighthouse for the Blind
REFRESH-INTERVAL;VALUE=DURATION:PT1H
X-Robots-Tag:noindex
X-PUBLISHED-TTL:PT1H
BEGIN:VTIMEZONE
TZID:UTC
BEGIN:STANDARD
TZOFFSETFROM:+0000
TZOFFSETTO:+0000
TZNAME:UTC
DTSTART:20150101T000000
END:STANDARD
END:VTIMEZONE
BEGIN:VEVENT
DTSTART;TZID=UTC:20161007T173000
DTEND;TZID=UTC:20161007T230000
DTSTAMP:20260423T174954
CREATED:20160608T001453Z
LAST-MODIFIED:20160616T005103Z
UID:1239-1475861400-1475881200@lighthousefw.org
SUMMARY:Shot in the Dark
DESCRIPTION:
URL:https://lighthousefw.org/event/shot-in-the-dark/
LOCATION:River Crest Country Club\, 1501 Western Avenue\, Fort Worth\, TX\, 76107\, United States
END:VEVENT
BEGIN:VEVENT
DTSTART;TZID=UTC:20161012T140000
DTEND;TZID=UTC:20161012T160000
DTSTAMP:20260423T174954
CREATED:20160608T000047Z
LAST-MODIFIED:20160608T001940Z
UID:1229-1476280800-1476288000@lighthousefw.org
SUMMARY:Monthly Support Group
DESCRIPTION:Reservations required\nContact Josie Gordon\njgordon@lighthousefw.org\n817-332-3341
URL:https://lighthousefw.org/event/monthly-support-group-5/
END:VEVENT
BEGIN:VEVENT
DTSTART;VALUE=DATE:20161013
DTEND;VALUE=DATE:20161014
DTSTAMP:20260423T174954
CREATED:20160608T001616Z
LAST-MODIFIED:20160608T001616Z
UID:1241-1476316800-1476403199@lighthousefw.org
SUMMARY:White Cane Day
DESCRIPTION:
URL:https://lighthousefw.org/event/white-cane-day/
LOCATION:Fort Worth Stockyards\, Fort Worth\, TX\, 76116\, United States
END:VEVENT
END:VCALENDAR