BEGIN:VCALENDAR
VERSION:2.0
PRODID:-//Lighthouse for the Blind - ECPv6.15.17.1//NONSGML v1.0//EN
CALSCALE:GREGORIAN
METHOD:PUBLISH
X-WR-CALNAME:Lighthouse for the Blind
X-ORIGINAL-URL:https://lighthousefw.org
X-WR-CALDESC:Events for Lighthouse for the Blind
REFRESH-INTERVAL;VALUE=DURATION:PT1H
X-Robots-Tag:noindex
X-PUBLISHED-TTL:PT1H
BEGIN:VTIMEZONE
TZID:UTC
BEGIN:STANDARD
TZOFFSETFROM:+0000
TZOFFSETTO:+0000
TZNAME:UTC
DTSTART:20150101T000000
END:STANDARD
END:VTIMEZONE
BEGIN:VTIMEZONE
TZID:America/New_York
BEGIN:DAYLIGHT
TZOFFSETFROM:-0500
TZOFFSETTO:-0400
TZNAME:EDT
DTSTART:20150308T070000
END:DAYLIGHT
BEGIN:STANDARD
TZOFFSETFROM:-0400
TZOFFSETTO:-0500
TZNAME:EST
DTSTART:20151101T060000
END:STANDARD
BEGIN:DAYLIGHT
TZOFFSETFROM:-0500
TZOFFSETTO:-0400
TZNAME:EDT
DTSTART:20160313T070000
END:DAYLIGHT
BEGIN:STANDARD
TZOFFSETFROM:-0400
TZOFFSETTO:-0500
TZNAME:EST
DTSTART:20161106T060000
END:STANDARD
BEGIN:DAYLIGHT
TZOFFSETFROM:-0500
TZOFFSETTO:-0400
TZNAME:EDT
DTSTART:20170312T070000
END:DAYLIGHT
BEGIN:STANDARD
TZOFFSETFROM:-0400
TZOFFSETTO:-0500
TZNAME:EST
DTSTART:20171105T060000
END:STANDARD
END:VTIMEZONE
BEGIN:VEVENT
DTSTART;VALUE=DATE:20161225
DTEND;VALUE=DATE:20161226
DTSTAMP:20260419T222517
CREATED:20160621T221332Z
LAST-MODIFIED:20160621T221332Z
UID:1488-1482624000-1482710399@lighthousefw.org
SUMMARY:Christmas Day
DESCRIPTION:
URL:https://lighthousefw.org/event/christmas-day/
LOCATION:TX
END:VEVENT
BEGIN:VEVENT
DTSTART;TZID=UTC:20161221T140000
DTEND;TZID=UTC:20161221T153000
DTSTAMP:20260419T222517
CREATED:20160608T000800Z
LAST-MODIFIED:20160623T002300Z
UID:1234-1482328800-1482334200@lighthousefw.org
SUMMARY:Tactile Art Class
DESCRIPTION:Reservations Required\nContact Josie Gordon\njgordon@lighthousefw.org\n817-332-3341
URL:https://lighthousefw.org/event/tactile-art-class-3/
LOCATION:TX
END:VEVENT
BEGIN:VEVENT
DTSTART;TZID=UTC:20161214T140000
DTEND;TZID=UTC:20161214T160000
DTSTAMP:20260419T222517
CREATED:20160608T000303Z
LAST-MODIFIED:20160608T002013Z
UID:1231-1481724000-1481731200@lighthousefw.org
SUMMARY:Monthly Support Group
DESCRIPTION:Reservations Required\nContact Josie Gordon\njgordon@lighthousefw.org\n817-332-3341
URL:https://lighthousefw.org/event/monthly-support-group-7/
LOCATION:TX
END:VEVENT
BEGIN:VEVENT
DTSTART;TZID=America/New_York:20161210T140000
DTEND;TZID=America/New_York:20161210T160000
DTSTAMP:20260419T222517
CREATED:20161026T131620Z
LAST-MODIFIED:20161110T145836Z
UID:2801-1481378400-1481385600@lighthousefw.org
SUMMARY:Children's Holiday Event
DESCRIPTION:This annual holiday event is open all children\, ages 2 to 12 years\, who are vision impaired\, their siblings and adult family members.  Reservations are required by December 7th and can be made by calling Jamie at 817-332-3341.  Please note that the location has changed.  Please join at the Education Service Center #11\, 1451 Cherry Lane\, White Settlement\, TX 76108.
URL:https://lighthousefw.org/event/childrens-holiday-event/
LOCATION:Education Service Center #11\, 1451 South Cherry Lane\, White Settlement\, TX\, 76108\, United States
END:VEVENT
BEGIN:VEVENT
DTSTART;TZID=America/New_York:20161203T100000
DTEND;TZID=America/New_York:20161203T120000
DTSTAMP:20260419T222517
CREATED:20161026T172634Z
LAST-MODIFIED:20161026T172920Z
UID:2806-1480759200-1480766400@lighthousefw.org
SUMMARY:Lone Star Puppy Raisers Fort Worth Monthly Meeting
DESCRIPTION:Raising puppies for Guide Dogs for the Blind.  Call Nancy at 817-332-3341 for information and to register to attend as a guest.
URL:https://lighthousefw.org/event/lone-star-puppy-raisers-fort-worth-monthly-meeting/
LOCATION:TX
END:VEVENT
BEGIN:VEVENT
DTSTART;TZID=America/New_York:20161201T180000
DTEND;TZID=America/New_York:20161201T200000
DTSTAMP:20260419T222517
CREATED:20161026T182850Z
LAST-MODIFIED:20161026T182850Z
UID:2810-1480615200-1480622400@lighthousefw.org
SUMMARY:Tarrant County Christmas Party (First Presbyterian Church)
DESCRIPTION:Tarrant County Christmas Party for the Blind will be held Thursday\, December 1\, 2016 from 6 p.m. to 8 p.m. at 1st Presbyterian Church of Fort Worth\, located at 1000 Penn Street. \nTo RSVP or for more information\, please call Jayne McFarland at 817-335-1231. \nThere is no charge for the event.  A meal will be served followed by entertainment.  Transportation can be provided for those in the Fort Worth area\, if needed\, and if available; please notify us if transportation is needed when making reservations.  Please RSVP by Friday\, November 18.  Come join this time of fellowship and make new friends or renew past acquaintances. \nThere is an optional gift exchange – limit gift to $5.00. \nThis is an open invitation to all blind or visually impaired and those who work directly with the blind or visually impaired.
URL:https://lighthousefw.org/event/tarrant-county-christmas-party-first-presbyterian-church/
LOCATION:1st Presbyterian Church\, 1000 Penn Street\, Fort Worth\, TX\, 76102\, United States
END:VEVENT
BEGIN:VEVENT
DTSTART;VALUE=DATE:20161124
DTEND;VALUE=DATE:20161125
DTSTAMP:20260419T222517
CREATED:20160621T220830Z
LAST-MODIFIED:20160621T220830Z
UID:1487-1479945600-1480031999@lighthousefw.org
SUMMARY:Thanksgiving Holiday (Lighthouse closed)
DESCRIPTION:
URL:https://lighthousefw.org/event/thanksgiving-holiday-lighthouse-closed/
LOCATION:TX
END:VEVENT
BEGIN:VEVENT
DTSTART;TZID=UTC:20161109T140000
DTEND;TZID=UTC:20161109T160000
DTSTAMP:20260419T222517
CREATED:20160608T000144Z
LAST-MODIFIED:20160608T001952Z
UID:1230-1478700000-1478707200@lighthousefw.org
SUMMARY:Monthly Support Group
DESCRIPTION:Reservations required\nContact Josie Gordon\njgordon@lighthousefw.org\n817-332-3341
URL:https://lighthousefw.org/event/monthly-support-group-6/
LOCATION:TX
END:VEVENT
BEGIN:VEVENT
DTSTART;VALUE=DATE:20161013
DTEND;VALUE=DATE:20161014
DTSTAMP:20260419T222517
CREATED:20160608T001616Z
LAST-MODIFIED:20160608T001616Z
UID:1241-1476316800-1476403199@lighthousefw.org
SUMMARY:White Cane Day
DESCRIPTION:
URL:https://lighthousefw.org/event/white-cane-day/
LOCATION:Fort Worth Stockyards\, Fort Worth\, TX\, 76116\, United States
END:VEVENT
BEGIN:VEVENT
DTSTART;TZID=UTC:20161012T140000
DTEND;TZID=UTC:20161012T160000
DTSTAMP:20260419T222517
CREATED:20160608T000047Z
LAST-MODIFIED:20160608T001940Z
UID:1229-1476280800-1476288000@lighthousefw.org
SUMMARY:Monthly Support Group
DESCRIPTION:Reservations required\nContact Josie Gordon\njgordon@lighthousefw.org\n817-332-3341
URL:https://lighthousefw.org/event/monthly-support-group-5/
LOCATION:TX
END:VEVENT
BEGIN:VEVENT
DTSTART;TZID=UTC:20161007T173000
DTEND;TZID=UTC:20161007T230000
DTSTAMP:20260419T222517
CREATED:20160608T001453Z
LAST-MODIFIED:20160616T005103Z
UID:1239-1475861400-1475881200@lighthousefw.org
SUMMARY:Shot in the Dark
DESCRIPTION:
URL:https://lighthousefw.org/event/shot-in-the-dark/
LOCATION:River Crest Country Club\, 1501 Western Avenue\, Fort Worth\, TX\, 76107\, United States
END:VEVENT
BEGIN:VEVENT
DTSTART;TZID=UTC:20160929T170000
DTEND;TZID=UTC:20160929T190000
DTSTAMP:20260419T222517
CREATED:20160608T001329Z
LAST-MODIFIED:20160608T001329Z
UID:1237-1475168400-1475175600@lighthousefw.org
SUMMARY:Kendra Scott Gives Back
DESCRIPTION:
URL:https://lighthousefw.org/event/kendra-scott-gives-back/
LOCATION:Kendra Scott\, 1612 S. University\, Fort Worth\, TX\, 76107\, United States
END:VEVENT
BEGIN:VEVENT
DTSTART;TZID=UTC:20160921T140000
DTEND;TZID=UTC:20160921T153000
DTSTAMP:20260419T222517
CREATED:20160608T000524Z
LAST-MODIFIED:20160623T001852Z
UID:1232-1474466400-1474471800@lighthousefw.org
SUMMARY:Tactile Art Class
DESCRIPTION:Reservations Required\nContact Josie Gordon\njgordon@lighthousefw.org\n817-332-3341
URL:https://lighthousefw.org/event/tactile-art-class/
LOCATION:TX
END:VEVENT
BEGIN:VEVENT
DTSTART;TZID=UTC:20160914T140000
DTEND;TZID=UTC:20160914T160000
DTSTAMP:20260419T222517
CREATED:20160607T235923Z
LAST-MODIFIED:20160608T001908Z
UID:1228-1473861600-1473868800@lighthousefw.org
SUMMARY:Monthly Support Group
DESCRIPTION:Reservations required\nContact Josie Gordon\njgordon@lighthousefw.org\n817-332-3341
URL:https://lighthousefw.org/event/monthly-support-group-4/
LOCATION:TX
END:VEVENT
BEGIN:VEVENT
DTSTART;VALUE=DATE:20160905
DTEND;VALUE=DATE:20160906
DTSTAMP:20260419T222517
CREATED:20160621T220650Z
LAST-MODIFIED:20160621T220650Z
UID:1486-1473033600-1473119999@lighthousefw.org
SUMMARY:Labor Day Holiday (Lighthouse closed)
DESCRIPTION:
URL:https://lighthousefw.org/event/labor-day-holiday-lighthouse-closed/
LOCATION:TX
END:VEVENT
BEGIN:VEVENT
DTSTART;TZID=UTC:20160810T140000
DTEND;TZID=UTC:20160810T160000
DTSTAMP:20260419T222517
CREATED:20160607T235756Z
LAST-MODIFIED:20160608T001854Z
UID:1227-1470837600-1470844800@lighthousefw.org
SUMMARY:Monthly Support Group
DESCRIPTION:Reservations required\nContact Josie Gordon\njgordon@lighthousefw.org\n817-332-3341
URL:https://lighthousefw.org/event/monthly-support-group-3/
LOCATION:TX
END:VEVENT
BEGIN:VEVENT
DTSTART;TZID=UTC:20160802T170000
DTEND;TZID=UTC:20160802T190000
DTSTAMP:20260419T222517
CREATED:20160608T001020Z
LAST-MODIFIED:20160608T001045Z
UID:1235-1470157200-1470164400@lighthousefw.org
SUMMARY:Grace Celebrity Bartending
DESCRIPTION:
URL:https://lighthousefw.org/event/grace-celebrity-bartending/
LOCATION:Grace Restaurant\, 777 Main Street\, Fort Worth\, TX\, 76102\, United States
END:VEVENT
BEGIN:VEVENT
DTSTART;VALUE=DATE:20160731
DTEND;VALUE=DATE:20160806
DTSTAMP:20260419T222517
CREATED:20160616T021018Z
LAST-MODIFIED:20160616T021018Z
UID:1336-1469923200-1470441599@lighthousefw.org
SUMMARY:Camp Lighthouse @ the Y
DESCRIPTION:
URL:https://lighthousefw.org/event/camp-lighthouse-y/
LOCATION:YMCA Camp Carter\, 6200 Sand Springs Road\, Fort Worth\, TX\, 76114\, United States
END:VEVENT
BEGIN:VEVENT
DTSTART;TZID=UTC:20160713T140000
DTEND;TZID=UTC:20160713T160000
DTSTAMP:20260419T222517
CREATED:20160607T235410Z
LAST-MODIFIED:20160607T235410Z
UID:1226-1468418400-1468425600@lighthousefw.org
SUMMARY:Monthly Support Group
DESCRIPTION:Reservations required\nContact Josie Gordon\njgordon@lighthousefw.org\n817-332-3341
URL:https://lighthousefw.org/event/monthly-support-group-2/
LOCATION:TX
END:VEVENT
BEGIN:VEVENT
DTSTART;VALUE=DATE:20160704
DTEND;VALUE=DATE:20160705
DTSTAMP:20260419T222517
CREATED:20160621T215847Z
LAST-MODIFIED:20160621T220308Z
UID:1484-1467590400-1467676799@lighthousefw.org
SUMMARY:Independence Day Holiday - Lighthouse closed
DESCRIPTION:
URL:https://lighthousefw.org/event/independence-day-holiday-lighthouse-closed/
LOCATION:TX
END:VEVENT
BEGIN:VEVENT
DTSTART;TZID=UTC:20160608T140000
DTEND;TZID=UTC:20160608T160000
DTSTAMP:20260419T222517
CREATED:20160607T235317Z
LAST-MODIFIED:20160608T001810Z
UID:1225-1465394400-1465401600@lighthousefw.org
SUMMARY:Monthly Support Group
DESCRIPTION:Reservations required\nContact Josie Gordon\njgordon@lighthousefw.org\n817-332-3341
URL:https://lighthousefw.org/event/monthly-support-group/
LOCATION:TX
END:VEVENT
END:VCALENDAR