BEGIN:VCALENDAR
VERSION:2.0
PRODID:-//Lighthouse for the Blind - ECPv6.15.17.1//NONSGML v1.0//EN
CALSCALE:GREGORIAN
METHOD:PUBLISH
X-WR-CALNAME:Lighthouse for the Blind
X-ORIGINAL-URL:https://lighthousefw.org
X-WR-CALDESC:Events for Lighthouse for the Blind
REFRESH-INTERVAL;VALUE=DURATION:PT1H
X-Robots-Tag:noindex
X-PUBLISHED-TTL:PT1H
BEGIN:VTIMEZONE
TZID:America/Chicago
BEGIN:DAYLIGHT
TZOFFSETFROM:-0600
TZOFFSETTO:-0500
TZNAME:CDT
DTSTART:20160313T080000
END:DAYLIGHT
BEGIN:STANDARD
TZOFFSETFROM:-0500
TZOFFSETTO:-0600
TZNAME:CST
DTSTART:20161106T070000
END:STANDARD
BEGIN:DAYLIGHT
TZOFFSETFROM:-0600
TZOFFSETTO:-0500
TZNAME:CDT
DTSTART:20170312T080000
END:DAYLIGHT
BEGIN:STANDARD
TZOFFSETFROM:-0500
TZOFFSETTO:-0600
TZNAME:CST
DTSTART:20171105T070000
END:STANDARD
BEGIN:DAYLIGHT
TZOFFSETFROM:-0600
TZOFFSETTO:-0500
TZNAME:CDT
DTSTART:20180311T080000
END:DAYLIGHT
BEGIN:STANDARD
TZOFFSETFROM:-0500
TZOFFSETTO:-0600
TZNAME:CST
DTSTART:20181104T070000
END:STANDARD
END:VTIMEZONE
BEGIN:VTIMEZONE
TZID:America/New_York
BEGIN:DAYLIGHT
TZOFFSETFROM:-0500
TZOFFSETTO:-0400
TZNAME:EDT
DTSTART:20150308T070000
END:DAYLIGHT
BEGIN:STANDARD
TZOFFSETFROM:-0400
TZOFFSETTO:-0500
TZNAME:EST
DTSTART:20151101T060000
END:STANDARD
BEGIN:DAYLIGHT
TZOFFSETFROM:-0500
TZOFFSETTO:-0400
TZNAME:EDT
DTSTART:20160313T070000
END:DAYLIGHT
BEGIN:STANDARD
TZOFFSETFROM:-0400
TZOFFSETTO:-0500
TZNAME:EST
DTSTART:20161106T060000
END:STANDARD
BEGIN:DAYLIGHT
TZOFFSETFROM:-0500
TZOFFSETTO:-0400
TZNAME:EDT
DTSTART:20170312T070000
END:DAYLIGHT
BEGIN:STANDARD
TZOFFSETFROM:-0400
TZOFFSETTO:-0500
TZNAME:EST
DTSTART:20171105T060000
END:STANDARD
BEGIN:DAYLIGHT
TZOFFSETFROM:-0500
TZOFFSETTO:-0400
TZNAME:EDT
DTSTART:20180311T070000
END:DAYLIGHT
BEGIN:STANDARD
TZOFFSETFROM:-0400
TZOFFSETTO:-0500
TZNAME:EST
DTSTART:20181104T060000
END:STANDARD
END:VTIMEZONE
BEGIN:VTIMEZONE
TZID:UTC
BEGIN:STANDARD
TZOFFSETFROM:+0000
TZOFFSETTO:+0000
TZNAME:UTC
DTSTART:20150101T000000
END:STANDARD
END:VTIMEZONE
BEGIN:VEVENT
DTSTART;TZID=America/Chicago:20170712T140000
DTEND;TZID=America/Chicago:20170712T160000
DTSTAMP:20260419T142238
CREATED:20170626T124809Z
LAST-MODIFIED:20170626T125127Z
UID:3200-1499868000-1499875200@lighthousefw.org
SUMMARY:Support Group - Returning
DESCRIPTION:Every month we host two Support Groups for people who are visually impaired or blind. \nOur afternoon support group is for people that are no longer new to visual impairment. \nSupport Groups are hosted by Kevin Higgins our Certified Vision Rehabilitation Specialist.
URL:https://lighthousefw.org/event/support-group-returning-4/
LOCATION:Lighthouse for the Blind of Fort Worth\, 912 West Broadway\, Fort Worth\, TX\, 76104\, United States
END:VEVENT
BEGIN:VEVENT
DTSTART;TZID=America/Chicago:20170712T100000
DTEND;TZID=America/Chicago:20170712T120000
DTSTAMP:20260419T142238
CREATED:20170626T124545Z
LAST-MODIFIED:20170626T124607Z
UID:3198-1499853600-1499860800@lighthousefw.org
SUMMARY:Support Group - New
DESCRIPTION:Every month we host two Support Groups for people who are visually impaired or blind. \nOur morning support group is for people that are new to visual impairment. \nSupport Groups are hosted by Kevin Higgins our Certified Vision Rehabilitation Specialist.
URL:https://lighthousefw.org/event/support-group-new-4/
LOCATION:Lighthouse for the Blind of Fort Worth\, 912 West Broadway\, Fort Worth\, TX\, 76104\, United States
END:VEVENT
BEGIN:VEVENT
DTSTART;TZID=America/Chicago:20170708T113000
DTEND;TZID=America/Chicago:20170708T133000
DTSTAMP:20260419T142238
CREATED:20170523T163848Z
LAST-MODIFIED:20170626T130516Z
UID:3145-1499513400-1499520600@lighthousefw.org
SUMMARY:Blind Dine
DESCRIPTION:July’s Blind Dine will be held at Mellow Mushroom – Saturday\, July 8th 11:30 am to 1:30 pm. \nMellow Mushroom is a delicious pizza restaurant located on Blue Bonnet Circle. Please RSVP by Wednesday\, July 5th. \nCome out and enjoy great food & friends! \nThere are menus available on their website\, Click here for menu. We will also have a low vision and Braille menu available on site. \nPlease RSVP no later than Wednesday\, July 5th.\nFor more info\, contact rsmith@lighthousefw.org or call 817-332-3341.
URL:https://lighthousefw.org/event/blind-dine-2/
LOCATION:Mellow Mushroom\, 3455 Bluebonnet Circle\, Fort Worth\, TX\, 76109\, United States
END:VEVENT
BEGIN:VEVENT
DTSTART;TZID=America/Chicago:20170621T093000
DTEND;TZID=America/Chicago:20170621T113000
DTSTAMP:20260419T142238
CREATED:20170608T184218Z
LAST-MODIFIED:20170608T184218Z
UID:3193-1498037400-1498044600@lighthousefw.org
SUMMARY:Cooking Without Looking
DESCRIPTION:Join Kevin Higgins & Shawn Keen on Wednesday\, June 21st\, 9:30 a.m. to 11:30 a.m. for our monthly Cooking Without Looking! \nThis month we’ll be learning how to make fruit smoothies. Come join us for some healthy and delicious fun! \nPlease RSVP by Monday\, June 19th. \nFor more information\, contact Shawn Keen at skeen@lighthousefw.org or call 817.332.3341.
URL:https://lighthousefw.org/event/cooking-without-looking-2/
LOCATION:Lighthouse for the Blind of Fort Worth\, 912 West Broadway\, Fort Worth\, TX\, 76104\, United States
END:VEVENT
BEGIN:VEVENT
DTSTART;TZID=America/Chicago:20170614T140000
DTEND;TZID=America/Chicago:20170614T160000
DTSTAMP:20260419T142238
CREATED:20170605T191325Z
LAST-MODIFIED:20170605T191325Z
UID:3179-1497448800-1497456000@lighthousefw.org
SUMMARY:Support Group - Returning
DESCRIPTION:Every month we host two Support Groups for people who are visually impaired or blind. \nOur afternoon support group is for people that are no longer new to visual impairment. \nSupport Groups are hosted by Kevin Higgins our Certified Vision Rehabilitation Specialist.
URL:https://lighthousefw.org/event/support-group-returning-3/
LOCATION:Lighthouse for the Blind of Fort Worth\, 912 West Broadway\, Fort Worth\, TX\, 76104\, United States
END:VEVENT
BEGIN:VEVENT
DTSTART;TZID=America/Chicago:20170614T100000
DTEND;TZID=America/Chicago:20170614T120000
DTSTAMP:20260419T142238
CREATED:20170605T191605Z
LAST-MODIFIED:20170605T191605Z
UID:3181-1497434400-1497441600@lighthousefw.org
SUMMARY:Support Group - New
DESCRIPTION:Every month we host two Support Groups for people who are visually impaired or blind. \nOur morning support group is for people that are new to visual impairment. \nSupport Groups are hosted by Kevin Higgins our Certified Vision Rehabilitation Specialist.
URL:https://lighthousefw.org/event/support-group-new-3/
LOCATION:Lighthouse for the Blind of Fort Worth\, 912 West Broadway\, Fort Worth\, TX\, 76104\, United States
END:VEVENT
BEGIN:VEVENT
DTSTART;TZID=America/Chicago:20170531T093000
DTEND;TZID=America/Chicago:20170531T113000
DTSTAMP:20260419T142238
CREATED:20170515T143932Z
LAST-MODIFIED:20170515T180611Z
UID:3140-1496223000-1496230200@lighthousefw.org
SUMMARY:Cooking Without Looking
DESCRIPTION:Join Kevin Higgins & Shawn Keen on Wednesday\, May 31st\, 9:30 a.m. to 11:30 a.m. for our monthly Cooking Without Looking! \nThis month we are making chocolate mug cake in the microwave! \nPlease RSVP by Friday\, May 26th. \nFor more information\, contact Shawn Keen at skeen@lighthousefw.org or call 817.332.3341.
URL:https://lighthousefw.org/event/cooking-without-looking/
LOCATION:Lighthouse for the Blind of Fort Worth\, 912 West Broadway\, Fort Worth\, TX\, 76104\, United States
END:VEVENT
BEGIN:VEVENT
DTSTART;TZID=America/Chicago:20170524T100000
DTEND;TZID=America/Chicago:20170524T120000
DTSTAMP:20260419T142238
CREATED:20170510T181702Z
LAST-MODIFIED:20170511T123901Z
UID:3125-1495620000-1495627200@lighthousefw.org
SUMMARY:Household Items & Independent Living Seminar
DESCRIPTION:Join Kevin Higgins on Wednesday\, May 24th\, 10 a.m. – 12 p.m. to learn creative ways to use everyday household items to enhance your independence in the home. \nFor more information contact Kevin at khiggins@lighthousefw.org. \nPlease RSVP by Friday\, May 19\, 2017.
URL:https://lighthousefw.org/event/household-items-independent-living-seminar/
LOCATION:Lighthouse for the Blind of Fort Worth\, 912 West Broadway\, Fort Worth\, TX\, 76104\, United States
END:VEVENT
BEGIN:VEVENT
DTSTART;TZID=America/Chicago:20170513T130000
DTEND;TZID=America/Chicago:20170513T150000
DTSTAMP:20260419T142238
CREATED:20170418T133549Z
LAST-MODIFIED:20170418T133549Z
UID:3055-1494680400-1494687600@lighthousefw.org
SUMMARY:Blind Dine
DESCRIPTION:May’s Blind Dine will be held at Shaw’s Patio Bar & Grill. \nWe’ve had several recommendations for Shaw’s and they have been very sweet in coordinating the May Blind Dine with us. We have several tables out on their patio reserved. \nSo come out and enjoy great food & friends! \nThere are menus available on their website\, www.shawspatio.com. We are planning on having a low vision and Braille menu available on site. \nPlease RSVP by Wednesday\, May 10th.\nFor more info\, contact skeen@lighthousefw.org or message us on here!
URL:https://lighthousefw.org/event/maybd/
LOCATION:Shaw’s Patio Bar & Grill\, 1051 W Magnolia Ave\, Fort Worth\, TX\, 76104\, United States
END:VEVENT
BEGIN:VEVENT
DTSTART;TZID=America/Chicago:20170510T140000
DTEND;TZID=America/Chicago:20170510T160000
DTSTAMP:20260419T142238
CREATED:20170510T182212Z
LAST-MODIFIED:20170510T182212Z
UID:3127-1494424800-1494432000@lighthousefw.org
SUMMARY:Support Group - Returning
DESCRIPTION:Every month we host two Support Groups for people who are visually impaired or blind. \nOur afternoon support group is for people that are no longer new to visual impairment. \nSupport Groups are hosted by Kevin Higgins our Certified Vision Rehabilitation Specialist.
URL:https://lighthousefw.org/event/support-group-returning-2/
LOCATION:Lighthouse for the Blind of Fort Worth\, 912 West Broadway\, Fort Worth\, TX\, 76104\, United States
END:VEVENT
BEGIN:VEVENT
DTSTART;TZID=America/Chicago:20170510T130000
DTEND;TZID=America/Chicago:20170510T150000
DTSTAMP:20260419T142238
CREATED:20170404T220832Z
LAST-MODIFIED:20170404T220846Z
UID:3047-1494421200-1494428400@lighthousefw.org
SUMMARY:VFO: ZoomText 11 & JAWS 18 Seminar
DESCRIPTION:Using ZoomText 11 and JAWS 18 Effectively Together & What is New at VFO! \nKimberly Cline will discuss what is new at VFO and talk about the merger of Freedom Scientific\, Optelec and Ai Squared and the power of these three companies working together as one! \nOne of the many exciting new things due to the VFO merger is ZoomText 11 and JAWS 18 compatibility. This will be featured during our presentation as well as many other new\nfeatures. \nNew Features in JAWS 18: \nInteroperability with Upcoming ZoomText 11\, Vocalizer Expressive 2.2\, Migration Feature\, and Talking Mouse \nNew Features in ZoomText11: \nFor the release of ZoomText 11 our goal was to make ZoomText faster and friendlier than ever before. So we streamlined the toolbars\, simplified command keys\, and unified the core features to make them easier to learn and use. We’ve also made sure that the ZoomText interface is fully accessible using the mouse or the keyboard. \nNew ZoomText/JAWS Interoperability. Starting with the releases of ZoomText 11 and JAWS 18\, ZoomText and JAWS are now officially compatible\, giving you the best combination of speech and magnification available. You’ll enjoy how the two programs work together to keep your spoken point of interest in view\, even when using the JAWS Say All command and virtual cursor. Now the two “Best in Category” are the “Best in Combination. \nThree outcomes of presentation:\nGaining a fuller understanding of the VFO merger\nLearn what is new with ZoomText 11 and JAWS 18\nUsing ZoomText 11 effectively with JAWS 18 \nKimberly Cline has over 25 years of experience in the assistive technology industry. Over the years\, she has specialized in working with individuals who have unique assistive technology needs. \nShe works with VFO as the Strategic Sales Manager and focuses on software such as ZoomText\, Fusion\, ZoomText Mac\, MAGic\, JAWS\, OpenBook and ImageReader. \nKimberly’s favorite part of working in this industry is she loves changing the lives of individuals by introducing them to the amazing software products that VFO offers
URL:https://lighthousefw.org/event/vfo/
LOCATION:Lighthouse for the Blind of Fort Worth\, 912 West Broadway\, Fort Worth\, TX\, 76104\, United States
END:VEVENT
BEGIN:VEVENT
DTSTART;TZID=America/Chicago:20170510T100000
DTEND;TZID=America/Chicago:20170510T120000
DTSTAMP:20260419T142238
CREATED:20170510T182113Z
LAST-MODIFIED:20170510T182113Z
UID:3126-1494410400-1494417600@lighthousefw.org
SUMMARY:Support Group - New
DESCRIPTION:Every month we host two Support Groups for people who are visually impaired or blind. \nOur morning support group is for people that are new to visual impairment. \nSupport Groups are hosted by Kevin Higgins our Certified Vision Rehabilitation Specialist.
URL:https://lighthousefw.org/event/support-group-new-2/
LOCATION:Lighthouse for the Blind of Fort Worth\, 912 West Broadway\, Fort Worth\, TX\, 76104\, United States
END:VEVENT
BEGIN:VEVENT
DTSTART;TZID=America/Chicago:20170427T093000
DTEND;TZID=America/Chicago:20170427T113000
DTSTAMP:20260419T142238
CREATED:20170417T164939Z
LAST-MODIFIED:20170417T164939Z
UID:3054-1493285400-1493292600@lighthousefw.org
SUMMARY:Cooking Without Looking
DESCRIPTION:Join Kevin Higgins and Shawn Keen on Thursday\, April 27th\, 9:30 a.m. to 11:30 a.m. for our monthly Cooking without Looking seminar. \nThis month you will learn how to cook a burger using a George Foreman Grill. \nPlease RSVP no later than Tuesday\, April 25th. \nFor more information\, contact Shawn at skeen@lighthousefw.org or call 817.332.3341.
URL:https://lighthousefw.org/event/cwl-april/
LOCATION:Lighthouse for the Blind of Fort Worth\, 912 West Broadway\, Fort Worth\, TX\, 76104\, United States
END:VEVENT
BEGIN:VEVENT
DTSTART;TZID=America/Chicago:20170419T100000
DTEND;TZID=America/Chicago:20170419T120000
DTSTAMP:20260419T142238
CREATED:20170412T142215Z
LAST-MODIFIED:20170412T142632Z
UID:3051-1492596000-1492603200@lighthousefw.org
SUMMARY:Siri Workshop
DESCRIPTION:Join Shawn Keen & Kevin Higgins on Wednesday\, April 19th\, 10 a.m. – 12 p.m. for a Siri Workshop. \nYou will learn how to use voice assistant Siri to access different iPhone & iPad features. \nBy the end of the workshop\, you will feel confident using Siri in new & creative ways to get the most out of your iPhone or iPad. \nPlease bring your iPhone or iPad with you. \nFor more info\, please contact Shawn at skeen@lighthousefw.org or 817-332-3341.
URL:https://lighthousefw.org/event/siri-workshop/
LOCATION:Lighthouse for the Blind of Fort Worth\, 912 West Broadway\, Fort Worth\, TX\, 76104\, United States
END:VEVENT
BEGIN:VEVENT
DTSTART;TZID=America/Chicago:20170412T140000
DTEND;TZID=America/Chicago:20170412T160000
DTSTAMP:20260419T142238
CREATED:20170328T222426Z
LAST-MODIFIED:20170328T222426Z
UID:3029-1492005600-1492012800@lighthousefw.org
SUMMARY:Support Group - Returning
DESCRIPTION:Every month we host two Support Groups for people who are visually impaired or blind. \nOur afternoon support group is for people that are no longer new to visual impairment. \nSupport Groups are hosted by Kevin Higgins our Certified Vision Rehabilitation Specialist.
URL:https://lighthousefw.org/event/support-group-returning/
LOCATION:Lighthouse for the Blind of Fort Worth\, 912 West Broadway\, Fort Worth\, TX\, 76104\, United States
END:VEVENT
BEGIN:VEVENT
DTSTART;TZID=America/Chicago:20170412T100000
DTEND;TZID=America/Chicago:20170412T120000
DTSTAMP:20260419T142238
CREATED:20170328T222259Z
LAST-MODIFIED:20170328T222259Z
UID:3028-1491991200-1491998400@lighthousefw.org
SUMMARY:Support Group - New
DESCRIPTION:Every month we host two Support Groups for people who are visually impaired or blind. \nOur morning support group is for people that are new to visual impairment. \nSupport Groups are hosted by Kevin Higgins our Certified Vision Rehabilitation Specialist.
URL:https://lighthousefw.org/event/support-group-new/
LOCATION:Lighthouse for the Blind of Fort Worth\, 912 West Broadway\, Fort Worth\, TX\, 76104\, United States
END:VEVENT
BEGIN:VEVENT
DTSTART;TZID=America/Chicago:20170408T130000
DTEND;TZID=America/Chicago:20170408T150000
DTSTAMP:20260419T142238
CREATED:20170327T192314Z
LAST-MODIFIED:20170327T192314Z
UID:3025-1491656400-1491663600@lighthousefw.org
SUMMARY:Blind Dine
DESCRIPTION:We had such a good time at our first Blind Dine that we’ve decided to start having them monthly!\nThank you to everyone that came out to Cooper’s! \nOur next Blind Dine is going to be at Rahr & Son’s Brewery Co!\nSaturday\, April 8th 1 PM – 3 PM \nRahr will be launching their new Dadgum IPA that Saturday\, so you will be able to get a first taste!\nHeim BBQ will be there and J/O/E will be on stage. \nYou’ll be asked for your ID. Although the tours are family friendly and anyone is welcome\, there is a $10 admission fee for ages 21 and up\, but a tour of the brewery and a Rahr & Sons pint glass that holds up to three free beer samples are no charge. \nPlease RSVP by Wednesday\, April 5th.\nFor more info\, contact skeen@lighthousefw.org or message us on here! \nRahr & Son’s is located at:\n701 Galveston Ave\nFort Worth\, TX 76104
URL:https://lighthousefw.org/event/blind-dine/
LOCATION:Rahr & Sons Brewery\, 701 Galveston\, Fort Worth\, TX\, 76104\, United States
END:VEVENT
BEGIN:VEVENT
DTSTART;TZID=America/Chicago:20170328T093000
DTEND;TZID=America/Chicago:20170328T113000
DTSTAMP:20260419T142238
CREATED:20170327T175614Z
LAST-MODIFIED:20170327T175614Z
UID:3024-1490693400-1490700600@lighthousefw.org
SUMMARY:Amazon Echo Seminar - Part 2
DESCRIPTION:Join Shawn Keen and Kevin Higgins for an Amazon Echo demonstration on Tuesday 3/28/17\, 8:30 AM – 11:30 AM. \nJoin us again on Tuesday\, March 28th to prepare breakfast using the groceries purchased with the Amazon Echo from Monday! \nMonday\, March 27th 1 PM – 3 PM: Learn to order groceries using Amazon Echo\nTuesday\, March 28th 9:30 AM – 11:30 AM: Prepare breakfast with groceries purchased on Monday. \nPlease RSVP no later than Thursday\, March 23\, 2017.
URL:https://lighthousefw.org/event/amazon-echo-seminar-part-2/
LOCATION:Lighthouse for the Blind of Fort Worth\, 912 West Broadway\, Fort Worth\, TX\, 76104\, United States
END:VEVENT
BEGIN:VEVENT
DTSTART;TZID=America/Chicago:20170327T130000
DTEND;TZID=America/Chicago:20170327T150000
DTSTAMP:20260419T142238
CREATED:20170327T175506Z
LAST-MODIFIED:20170327T175525Z
UID:3023-1490619600-1490626800@lighthousefw.org
SUMMARY:Amazon Echo Seminar - Part 1
DESCRIPTION:Join Shawn Keen and Kevin Higgins for an Amazon Echo demonstration on Monday 3/27/17\, 1 pm – 3 pm. \nShawn & Kevin will demonstrate how to order groceries with the Amazon Echo from online grocery stores\, such as Instacart\, Tom Thumb\, & Wal-Mart. \nReturn on Tuesday for a lesson on preparing breakfast with the groceries purchased on Monday. \nMonday\, March 27th 1 PM – 3 PM: Learn to order groceries using Amazon Echo\nTuesday\, March 28th 9:30 AM – 11:30 AM: Prepare breakfast with groceries purchased on Monday. \nPlease RSVP no later than Thursday\, March 23\, 2017.
URL:https://lighthousefw.org/event/amazon-echo-seminar-part-1/
LOCATION:Lighthouse for the Blind of Fort Worth\, 912 West Broadway\, Fort Worth\, TX\, 76104\, United States
END:VEVENT
BEGIN:VEVENT
DTSTART;TZID=America/Chicago:20170311T090000
DTEND;TZID=America/Chicago:20170311T143000
DTSTAMP:20260419T142238
CREATED:20170309T141940Z
LAST-MODIFIED:20170309T141940Z
UID:3011-1489222800-1489242600@lighthousefw.org
SUMMARY:Vision Day
DESCRIPTION:Vision Day is sponsored by the Catholic Charities of Fort Worth and Lighthouse for the Blind of Fort Worth. \nOn Saturday\, March 11\, 2017\, the CCFW Hope Center will be teaming up with us for Vision Day. We will be offering a FREE eye exam and a free pair of eyeglasses to a limited number of qualifying clients. This event will start at 9 AM and go through 2:30 PM. \n**Clients must have an appointment in order to attend. There are income restrictions and a limited number of appointments available.** \nIf you know someone who may benefit from this kind of assistance\, please forward their name and a good phone number to (healthcare@ccdofw.org)\, and someone will reach out to schedule them. \nIf you have any questions\, please contact Jimmy Hawkins in person\, by phone at 817-289-3863\, or by email at jhawkins@ccdofw.org.
URL:https://lighthousefw.org/event/vision-day/
LOCATION:CCFW Hope Center\, 249 West Thornhill Drive\, Fort Worth\, TX\, 76115\, United States
END:VEVENT
BEGIN:VEVENT
DTSTART;TZID=America/New_York:20170211T183000
DTEND;TZID=America/New_York:20170211T213000
DTSTAMP:20260419T142238
CREATED:20161107T144457Z
LAST-MODIFIED:20161107T144457Z
UID:2867-1486837800-1486848600@lighthousefw.org
SUMMARY:Young Adult Valentine Dinner & Dance
DESCRIPTION:Join the Lighthouse and Visionaries in Action for the annual Valentine Dinner & Dance.  Stay tuned for details.
URL:https://lighthousefw.org/event/young-adult-valentine-dinner-dance/
LOCATION:Lighthouse for the Blind of Fort Worth\, 912 West Broadway\, Fort Worth\, TX\, 76104\, United States
END:VEVENT
BEGIN:VEVENT
DTSTART;TZID=America/New_York:20170204T123000
DTEND;TZID=America/New_York:20170204T150000
DTSTAMP:20260419T142238
CREATED:20161026T171627Z
LAST-MODIFIED:20161026T171627Z
UID:2804-1486211400-1486220400@lighthousefw.org
SUMMARY:Showing a Little Love the Rahr's Way
DESCRIPTION:Show a little love to the Lighthouse.  Join us at Rahr & Sons Brewery for a tour and tasting from 12:30 p.m. to 3:00 p.m. Cost is $10 for 3 beers.  Lighthouse will also be accepting donations.
URL:https://lighthousefw.org/event/showing-little-love-rahrs-way/
LOCATION:Rahr & Sons Brewery\, 701 Galveston\, Fort Worth\, TX\, 76104\, United States
END:VEVENT
BEGIN:VEVENT
DTSTART;TZID=America/New_York:20170127T120000
DTEND;TZID=America/New_York:20170127T163000
DTSTAMP:20260419T142238
CREATED:20161128T162353Z
LAST-MODIFIED:20161128T162545Z
UID:2893-1485518400-1485534600@lighthousefw.org
SUMMARY:Stock Show & Rodeo Day for VI Students
DESCRIPTION:This annual event is hosted by the AT&T Pioneers and the Lighthouse for local school students who are visually impaired.  Students enjoy a fun day at the legendary Fort Worth Stock Show and Rodeo.  Descriptive narration is provided courtesy of AT&T Pioneers and Paula Reed.  For complete details\, contact Nancy Fisher at nfisher@lighthousefw.org or by calling 817-332-3341.
URL:https://lighthousefw.org/event/stock-show-rodeo-day-vi-students/
LOCATION:TX
END:VEVENT
BEGIN:VEVENT
DTSTART;VALUE=DATE:20161226
DTEND;VALUE=DATE:20161227
DTSTAMP:20260419T142238
CREATED:20160621T221536Z
LAST-MODIFIED:20160621T221704Z
UID:1489-1482710400-1482796799@lighthousefw.org
SUMMARY:Christmas Employee Holiday (Lighthouse closed)
DESCRIPTION:
URL:https://lighthousefw.org/event/christmas-day-holiday-lighthouse-closed/
LOCATION:TX
END:VEVENT
BEGIN:VEVENT
DTSTART;VALUE=DATE:20161225
DTEND;VALUE=DATE:20161226
DTSTAMP:20260419T142238
CREATED:20160621T221332Z
LAST-MODIFIED:20160621T221332Z
UID:1488-1482624000-1482710399@lighthousefw.org
SUMMARY:Christmas Day
DESCRIPTION:
URL:https://lighthousefw.org/event/christmas-day/
LOCATION:TX
END:VEVENT
BEGIN:VEVENT
DTSTART;TZID=UTC:20161221T140000
DTEND;TZID=UTC:20161221T153000
DTSTAMP:20260419T142238
CREATED:20160608T000800Z
LAST-MODIFIED:20160623T002300Z
UID:1234-1482328800-1482334200@lighthousefw.org
SUMMARY:Tactile Art Class
DESCRIPTION:Reservations Required\nContact Josie Gordon\njgordon@lighthousefw.org\n817-332-3341
URL:https://lighthousefw.org/event/tactile-art-class-3/
LOCATION:TX
END:VEVENT
BEGIN:VEVENT
DTSTART;TZID=UTC:20161214T140000
DTEND;TZID=UTC:20161214T160000
DTSTAMP:20260419T142238
CREATED:20160608T000303Z
LAST-MODIFIED:20160608T002013Z
UID:1231-1481724000-1481731200@lighthousefw.org
SUMMARY:Monthly Support Group
DESCRIPTION:Reservations Required\nContact Josie Gordon\njgordon@lighthousefw.org\n817-332-3341
URL:https://lighthousefw.org/event/monthly-support-group-7/
LOCATION:TX
END:VEVENT
BEGIN:VEVENT
DTSTART;TZID=America/New_York:20161210T140000
DTEND;TZID=America/New_York:20161210T160000
DTSTAMP:20260419T142238
CREATED:20161026T131620Z
LAST-MODIFIED:20161110T145836Z
UID:2801-1481378400-1481385600@lighthousefw.org
SUMMARY:Children's Holiday Event
DESCRIPTION:This annual holiday event is open all children\, ages 2 to 12 years\, who are vision impaired\, their siblings and adult family members.  Reservations are required by December 7th and can be made by calling Jamie at 817-332-3341.  Please note that the location has changed.  Please join at the Education Service Center #11\, 1451 Cherry Lane\, White Settlement\, TX 76108.
URL:https://lighthousefw.org/event/childrens-holiday-event/
LOCATION:Education Service Center #11\, 1451 South Cherry Lane\, White Settlement\, TX\, 76108\, United States
END:VEVENT
BEGIN:VEVENT
DTSTART;TZID=America/New_York:20161203T100000
DTEND;TZID=America/New_York:20161203T120000
DTSTAMP:20260419T142238
CREATED:20161026T172634Z
LAST-MODIFIED:20161026T172920Z
UID:2806-1480759200-1480766400@lighthousefw.org
SUMMARY:Lone Star Puppy Raisers Fort Worth Monthly Meeting
DESCRIPTION:Raising puppies for Guide Dogs for the Blind.  Call Nancy at 817-332-3341 for information and to register to attend as a guest.
URL:https://lighthousefw.org/event/lone-star-puppy-raisers-fort-worth-monthly-meeting/
LOCATION:TX
END:VEVENT
BEGIN:VEVENT
DTSTART;TZID=America/New_York:20161201T180000
DTEND;TZID=America/New_York:20161201T200000
DTSTAMP:20260419T142238
CREATED:20161026T182850Z
LAST-MODIFIED:20161026T182850Z
UID:2810-1480615200-1480622400@lighthousefw.org
SUMMARY:Tarrant County Christmas Party (First Presbyterian Church)
DESCRIPTION:Tarrant County Christmas Party for the Blind will be held Thursday\, December 1\, 2016 from 6 p.m. to 8 p.m. at 1st Presbyterian Church of Fort Worth\, located at 1000 Penn Street. \nTo RSVP or for more information\, please call Jayne McFarland at 817-335-1231. \nThere is no charge for the event.  A meal will be served followed by entertainment.  Transportation can be provided for those in the Fort Worth area\, if needed\, and if available; please notify us if transportation is needed when making reservations.  Please RSVP by Friday\, November 18.  Come join this time of fellowship and make new friends or renew past acquaintances. \nThere is an optional gift exchange – limit gift to $5.00. \nThis is an open invitation to all blind or visually impaired and those who work directly with the blind or visually impaired.
URL:https://lighthousefw.org/event/tarrant-county-christmas-party-first-presbyterian-church/
LOCATION:1st Presbyterian Church\, 1000 Penn Street\, Fort Worth\, TX\, 76102\, United States
END:VEVENT
END:VCALENDAR