BEGIN:VCALENDAR
VERSION:2.0
PRODID:-//Lighthouse for the Blind - ECPv6.15.17.1//NONSGML v1.0//EN
CALSCALE:GREGORIAN
METHOD:PUBLISH
X-ORIGINAL-URL:https://lighthousefw.org
X-WR-CALDESC:Events for Lighthouse for the Blind
REFRESH-INTERVAL;VALUE=DURATION:PT1H
X-Robots-Tag:noindex
X-PUBLISHED-TTL:PT1H
BEGIN:VTIMEZONE
TZID:America/Chicago
BEGIN:DAYLIGHT
TZOFFSETFROM:-0600
TZOFFSETTO:-0500
TZNAME:CDT
DTSTART:20190310T080000
END:DAYLIGHT
BEGIN:STANDARD
TZOFFSETFROM:-0500
TZOFFSETTO:-0600
TZNAME:CST
DTSTART:20191103T070000
END:STANDARD
BEGIN:DAYLIGHT
TZOFFSETFROM:-0600
TZOFFSETTO:-0500
TZNAME:CDT
DTSTART:20200308T080000
END:DAYLIGHT
BEGIN:STANDARD
TZOFFSETFROM:-0500
TZOFFSETTO:-0600
TZNAME:CST
DTSTART:20201101T070000
END:STANDARD
BEGIN:DAYLIGHT
TZOFFSETFROM:-0600
TZOFFSETTO:-0500
TZNAME:CDT
DTSTART:20210314T080000
END:DAYLIGHT
BEGIN:STANDARD
TZOFFSETFROM:-0500
TZOFFSETTO:-0600
TZNAME:CST
DTSTART:20211107T070000
END:STANDARD
END:VTIMEZONE
BEGIN:VEVENT
DTSTART;TZID=America/Chicago:20200716T120000
DTEND;TZID=America/Chicago:20200716T140000
DTSTAMP:20260421T030207
CREATED:20200630T161411Z
LAST-MODIFIED:20200630T161411Z
UID:5298-1594900800-1594908000@lighthousefw.org
SUMMARY:Kustom Cane Presentation
DESCRIPTION:Don’t be plain\, go Kustom Cane:\nWe are excited to have the founder of Kustom Canes join us for a quick presentation on Thursday\, July 16th at 12 PM.\nJames\, prior to losing his vision in 2010\, was the successful owner of Custom Effects\, with a reputation throughout the whole automotive restyling industry\, for being top notch in service\, sales\, installation\, an expert to his field. James serviced the mid south area from 1995 to 2010 and had his work recognized in national publications across the country. Shortly after losing his sight\, James noticed that there was no variation or style in mobility canes. There was white or white. Boring! Hence\, James transferred his experience from the automotive to the mobility! He designed his first cane in 2011. James received so much feedback that he decided to serve others in personalizing their mobility canes as well.\n\nDate: Thursday\, July 16\nTime: 12 PM\nTo register for this meeting\, email Rebecca at rsmith@lighthousefw.org.
URL:https://lighthousefw.org/event/kustom-cane-presentation/
ORGANIZER;CN="Shawn Keen":MAILTO:skeen@lighthousefw.org
END:VEVENT
END:VCALENDAR