BEGIN:VCALENDAR
VERSION:2.0
PRODID:-//Lighthouse for the Blind - ECPv6.15.17.1//NONSGML v1.0//EN
CALSCALE:GREGORIAN
METHOD:PUBLISH
X-ORIGINAL-URL:https://lighthousefw.org
X-WR-CALDESC:Events for Lighthouse for the Blind
REFRESH-INTERVAL;VALUE=DURATION:PT1H
X-Robots-Tag:noindex
X-PUBLISHED-TTL:PT1H
BEGIN:VTIMEZONE
TZID:America/Chicago
BEGIN:DAYLIGHT
TZOFFSETFROM:-0600
TZOFFSETTO:-0500
TZNAME:CDT
DTSTART:20190310T080000
END:DAYLIGHT
BEGIN:STANDARD
TZOFFSETFROM:-0500
TZOFFSETTO:-0600
TZNAME:CST
DTSTART:20191103T070000
END:STANDARD
BEGIN:DAYLIGHT
TZOFFSETFROM:-0600
TZOFFSETTO:-0500
TZNAME:CDT
DTSTART:20200308T080000
END:DAYLIGHT
BEGIN:STANDARD
TZOFFSETFROM:-0500
TZOFFSETTO:-0600
TZNAME:CST
DTSTART:20201101T070000
END:STANDARD
BEGIN:DAYLIGHT
TZOFFSETFROM:-0600
TZOFFSETTO:-0500
TZNAME:CDT
DTSTART:20210314T080000
END:DAYLIGHT
BEGIN:STANDARD
TZOFFSETFROM:-0500
TZOFFSETTO:-0600
TZNAME:CST
DTSTART:20211107T070000
END:STANDARD
END:VTIMEZONE
BEGIN:VEVENT
DTSTART;TZID=America/Chicago:20200520T100000
DTEND;TZID=America/Chicago:20200520T120000
DTSTAMP:20260421T054343
CREATED:20200513T165126Z
LAST-MODIFIED:20200521T213212Z
UID:5170-1589968800-1589976000@lighthousefw.org
SUMMARY:Virtual Adjustment to Blindness Support Group
DESCRIPTION:Lighthouse for the Blind of Fort Worth is hosting a Virtual Adjustment to Blindness Support Group! \nWhile we continue to monitor the developing effects of the Coronavirus (COVID-19) pandemic\, we would like to stay in communication as much as possible. For the time being\, we’ve decided to host weekly (virtual) support groups and will try to have a guest speaker each week. \nThis week\, May 20th\, we are excited to have Leslie Kilton join us. Leslie is the coordinator  with the Specialized Telecommunications Assistance Program (STAP)\, which assist people who are visually impaired with purchasing an accessible phone via a voucher. \nDate: May 20th \nTime: 10 AM – 12 PM \nWatch here if you were unable to join us: https://youtu.be/28zk7DAzFG8
URL:https://lighthousefw.org/event/5170/
ORGANIZER;CN="Kevin Higgins":MAILTO:khiggins@lighthousefw.org
END:VEVENT
END:VCALENDAR