BEGIN:VCALENDAR
VERSION:2.0
PRODID:-//Lighthouse for the Blind - ECPv6.15.17.1//NONSGML v1.0//EN
CALSCALE:GREGORIAN
METHOD:PUBLISH
X-ORIGINAL-URL:https://lighthousefw.org
X-WR-CALDESC:Events for Lighthouse for the Blind
REFRESH-INTERVAL;VALUE=DURATION:PT1H
X-Robots-Tag:noindex
X-PUBLISHED-TTL:PT1H
BEGIN:VTIMEZONE
TZID:America/Chicago
BEGIN:DAYLIGHT
TZOFFSETFROM:-0600
TZOFFSETTO:-0500
TZNAME:CDT
DTSTART:20190310T080000
END:DAYLIGHT
BEGIN:STANDARD
TZOFFSETFROM:-0500
TZOFFSETTO:-0600
TZNAME:CST
DTSTART:20191103T070000
END:STANDARD
BEGIN:DAYLIGHT
TZOFFSETFROM:-0600
TZOFFSETTO:-0500
TZNAME:CDT
DTSTART:20200308T080000
END:DAYLIGHT
BEGIN:STANDARD
TZOFFSETFROM:-0500
TZOFFSETTO:-0600
TZNAME:CST
DTSTART:20201101T070000
END:STANDARD
BEGIN:DAYLIGHT
TZOFFSETFROM:-0600
TZOFFSETTO:-0500
TZNAME:CDT
DTSTART:20210314T080000
END:DAYLIGHT
BEGIN:STANDARD
TZOFFSETFROM:-0500
TZOFFSETTO:-0600
TZNAME:CST
DTSTART:20211107T070000
END:STANDARD
END:VTIMEZONE
BEGIN:VEVENT
DTSTART;TZID=America/Chicago:20200507T100000
DTEND;TZID=America/Chicago:20200507T110000
DTSTAMP:20260421T054255
CREATED:20200430T181036Z
LAST-MODIFIED:20200507T192500Z
UID:5120-1588845600-1588849200@lighthousefw.org
SUMMARY:Staying Healthy at Home with Alex Bornman – COMS\, CPT
DESCRIPTION:Staying Healthy at Home with Alex Bornman – COMS\, CPT presented by Lighthouse for the Blind of Fort Worth.\n\n\n \n\n\nAlex Bornman\, our Orientation and Mobility Specialist\, will instruct individuals how to stay healthy at home through fitness\, exercise and proper nutrition each Tuesday and Thursday\, 10 – 11 AM via Zoom.\n\n\n \n\n\nClients will be able to follow along through verbal description and live video. Tuesdays focus will be fitness and exercise while Thursday will focus on nutrition and healthy eating tips.\n\n\n \n\n\nThese sessions will include Q&A with Alex \,who is also Certified in Personal Training with a Nutrition Emphasis\, and end with the opportunity to complete a task on your own time.\n\n\n \n\n\nJoin us via Zoom\n\n\nThere are two ways to join:\n\n\n· https://us02web.zoom.us/j/3237661292\n\n\n· Dial (346) 248-7799\n\n\nMeeting ID: 323 766 1292\n\n\nPlease allow yourself plenty of time to join the meeting.\n\n\nWe know several of you are not familiar with Zoom\, but it is fairly easy to use.\n\n\nIf you need assistance\, call Shawn Keen at 817-529-7811.\n\n\nWatch here if you were unable to join us: https://youtu.be/PWX4ZSwOGSo
URL:https://lighthousefw.org/event/staying-healthy-at-home-with-alex-bornman-coms-cpt-7/
ORGANIZER;CN="Alex Bornman":MAILTO:abornman@lighthousefw.org
END:VEVENT
BEGIN:VEVENT
DTSTART;TZID=America/Chicago:20200507T120000
DTEND;TZID=America/Chicago:20200507T140000
DTSTAMP:20260421T054255
CREATED:20200429T183743Z
LAST-MODIFIED:20200507T192336Z
UID:5114-1588852800-1588860000@lighthousefw.org
SUMMARY:Games People Play
DESCRIPTION:Join us\, May 7\, 2020 at 12:00 P.M for games  people play. \nThis will be a fun and interactive demonstration and discussion of all types of entertainment either on Phone\, computer or electronic or board games. \nWe may even brain storm on games we can play as a virtual community at a later time. \nPlease join us via Zoom. We know several of you are not familiar with Zoom\, but it is fairly easy to use. Please allow yourself plenty of time to join the meeting. If you need assistance\, call Shawn Keen at 817-529-7811. \nThere are two ways to join:\n* https://us02web.zoom.us/j/3237661292\n* Dial (346) 248-7799\nMeeting ID: 323 766 1292 \nWe miss seeing you\, but we’re excited to use the available technology to stay connected. \n  \nWatch here if you were unable to join us: https://youtu.be/My7CjldE4MM
URL:https://lighthousefw.org/event/games-people-play/
ORGANIZER;CN="Kevin Higgins":MAILTO:khiggins@lighthousefw.org
END:VEVENT
END:VCALENDAR