BEGIN:VCALENDAR
VERSION:2.0
PRODID:-//Lighthouse for the Blind - ECPv6.15.17.1//NONSGML v1.0//EN
CALSCALE:GREGORIAN
METHOD:PUBLISH
X-WR-CALNAME:Lighthouse for the Blind
X-ORIGINAL-URL:https://lighthousefw.org
X-WR-CALDESC:Events for Lighthouse for the Blind
REFRESH-INTERVAL;VALUE=DURATION:PT1H
X-Robots-Tag:noindex
X-PUBLISHED-TTL:PT1H
BEGIN:VTIMEZONE
TZID:America/Chicago
BEGIN:DAYLIGHT
TZOFFSETFROM:-0600
TZOFFSETTO:-0500
TZNAME:CDT
DTSTART:20190310T080000
END:DAYLIGHT
BEGIN:STANDARD
TZOFFSETFROM:-0500
TZOFFSETTO:-0600
TZNAME:CST
DTSTART:20191103T070000
END:STANDARD
BEGIN:DAYLIGHT
TZOFFSETFROM:-0600
TZOFFSETTO:-0500
TZNAME:CDT
DTSTART:20200308T080000
END:DAYLIGHT
BEGIN:STANDARD
TZOFFSETFROM:-0500
TZOFFSETTO:-0600
TZNAME:CST
DTSTART:20201101T070000
END:STANDARD
BEGIN:DAYLIGHT
TZOFFSETFROM:-0600
TZOFFSETTO:-0500
TZNAME:CDT
DTSTART:20210314T080000
END:DAYLIGHT
BEGIN:STANDARD
TZOFFSETFROM:-0500
TZOFFSETTO:-0600
TZNAME:CST
DTSTART:20211107T070000
END:STANDARD
END:VTIMEZONE
BEGIN:VEVENT
DTSTART;TZID=America/Chicago:20200504T130000
DTEND;TZID=America/Chicago:20200504T150000
DTSTAMP:20260421T054046
CREATED:20200416T160352Z
LAST-MODIFIED:20200507T193417Z
UID:5078-1588597200-1588604400@lighthousefw.org
SUMMARY:Tutorial on Practical Uses for Braille
DESCRIPTION:Join us on Monday\, May 4 for a tutorial on practical uses for Braille. Tune in to learn about a  variety of daily uses for Braille designed to enhance independent living in the home. \nDate: Monday\, May 4 \nTime: 1:00 p.m. – 3:00 p.m. \nJoin us via Zoom \nThere are two ways to join:\n·    https://us02web.zoom.us/j/3237661292\n·    Dial (346) 248-7799\nMeeting ID: 323 766 1292\n\nPlease allow yourself plenty of time to join the meeting.\nWe know several of you are not familiar with Zoom\, but it is fairly easy to use.\nIf you need assistance\, call Shawn Keen at 817-529-7811.\n\nWatch here if you were unable to join us: https://youtu.be/ht2GYqbyEfQ
URL:https://lighthousefw.org/event/tutorial-on-practical-uses-for-braille/
ORGANIZER;CN="Kevin Higgins":MAILTO:khiggins@lighthousefw.org
END:VEVENT
END:VCALENDAR