BEGIN:VCALENDAR
VERSION:2.0
PRODID:-//Lighthouse for the Blind - ECPv6.15.17.1//NONSGML v1.0//EN
CALSCALE:GREGORIAN
METHOD:PUBLISH
X-WR-CALNAME:Lighthouse for the Blind
X-ORIGINAL-URL:https://lighthousefw.org
X-WR-CALDESC:Events for Lighthouse for the Blind
REFRESH-INTERVAL;VALUE=DURATION:PT1H
X-Robots-Tag:noindex
X-PUBLISHED-TTL:PT1H
BEGIN:VTIMEZONE
TZID:America/Chicago
BEGIN:DAYLIGHT
TZOFFSETFROM:-0600
TZOFFSETTO:-0500
TZNAME:CDT
DTSTART:20190310T080000
END:DAYLIGHT
BEGIN:STANDARD
TZOFFSETFROM:-0500
TZOFFSETTO:-0600
TZNAME:CST
DTSTART:20191103T070000
END:STANDARD
BEGIN:DAYLIGHT
TZOFFSETFROM:-0600
TZOFFSETTO:-0500
TZNAME:CDT
DTSTART:20200308T080000
END:DAYLIGHT
BEGIN:STANDARD
TZOFFSETFROM:-0500
TZOFFSETTO:-0600
TZNAME:CST
DTSTART:20201101T070000
END:STANDARD
BEGIN:DAYLIGHT
TZOFFSETFROM:-0600
TZOFFSETTO:-0500
TZNAME:CDT
DTSTART:20210314T080000
END:DAYLIGHT
BEGIN:STANDARD
TZOFFSETFROM:-0500
TZOFFSETTO:-0600
TZNAME:CST
DTSTART:20211107T070000
END:STANDARD
END:VTIMEZONE
BEGIN:VEVENT
DTSTART;TZID=America/Chicago:20200415T100000
DTEND;TZID=America/Chicago:20200415T120000
DTSTAMP:20260421T070333
CREATED:20200408T041319Z
LAST-MODIFIED:20200423T220615Z
UID:5035-1586944800-1586952000@lighthousefw.org
SUMMARY:Weekly Online Support Group
DESCRIPTION:While we continue to monitor the developing effects of the Coronavirus (COVID-19) pandemic\, we would like to stay in communication as much as possible. For the time being\, we’ve decided to host weekly (virtual) support groups and will try to have a guest speaker each week. \nThis week we are excited to have Mr. John Bramblitt join us. John is an artist living in Denton Texas\, his art has been sold in over one hundred and twenty countries and he has appeared internationally in print\, TV and radio. Prior to his blindness\, John studied at the University of North Texas in Denton\, Texas\, where he graduated with honors. When Bramblitt lost the last of his vision in 2001 due to complications with epilepsy and Lyme’s disease\, his hopes of becoming a creative writing teacher were shattered and he sunk into a deep depression. He felt disconnected from family and friends\, alienated and alone. But then something amazing happened– he discovered painting. He learned to distinguish between different colored paints by feeling their textures with his fingers. He taught himself how to paint using raised lines to help him find his way around the canvas\, and through something called haptic visualization\, which enables him to “see” his subjects through touch. He now paints amazingly lifelike portraits of people he’s never seen–including his wife and son. Credit: https://bramblitt.com/ \nPlease join us via Zoom\, every Wednesday in April. We know several of you are not familiar with Zoom\, but it is fairly easy to use.  Please allow yourself plenty of time to join the meeting. If you need assistance\, call Shawn Keen at 817-529-7811.\nThere are two ways to join: \n\n\n\nhttps://us02web.zoom.us/j/3237661292\nDial (346) 248-7799\n\n\n\nMeeting ID: 323 766 1292 \nWe miss seeing you\, but we’re excited to use the available technology to stay connected. \n  \nWatch here if you were unable to join us: https://youtu.be/lWSdzRnNIiY
URL:https://lighthousefw.org/event/weekly-online-support-group/
ORGANIZER;CN="Kevin Higgins":MAILTO:khiggins@lighthousefw.org
END:VEVENT
END:VCALENDAR