BEGIN:VCALENDAR
VERSION:2.0
PRODID:-//Lighthouse for the Blind - ECPv6.15.17.1//NONSGML v1.0//EN
CALSCALE:GREGORIAN
METHOD:PUBLISH
X-WR-CALNAME:Lighthouse for the Blind
X-ORIGINAL-URL:https://lighthousefw.org
X-WR-CALDESC:Events for Lighthouse for the Blind
REFRESH-INTERVAL;VALUE=DURATION:PT1H
X-Robots-Tag:noindex
X-PUBLISHED-TTL:PT1H
BEGIN:VTIMEZONE
TZID:America/Chicago
BEGIN:DAYLIGHT
TZOFFSETFROM:-0600
TZOFFSETTO:-0500
TZNAME:CDT
DTSTART:20190310T080000
END:DAYLIGHT
BEGIN:STANDARD
TZOFFSETFROM:-0500
TZOFFSETTO:-0600
TZNAME:CST
DTSTART:20191103T070000
END:STANDARD
BEGIN:DAYLIGHT
TZOFFSETFROM:-0600
TZOFFSETTO:-0500
TZNAME:CDT
DTSTART:20200308T080000
END:DAYLIGHT
BEGIN:STANDARD
TZOFFSETFROM:-0500
TZOFFSETTO:-0600
TZNAME:CST
DTSTART:20201101T070000
END:STANDARD
BEGIN:DAYLIGHT
TZOFFSETFROM:-0600
TZOFFSETTO:-0500
TZNAME:CDT
DTSTART:20210314T080000
END:DAYLIGHT
BEGIN:STANDARD
TZOFFSETFROM:-0500
TZOFFSETTO:-0600
TZNAME:CST
DTSTART:20211107T070000
END:STANDARD
END:VTIMEZONE
BEGIN:VEVENT
DTSTART;TZID=America/Chicago:20200408T100000
DTEND;TZID=America/Chicago:20200408T120000
DTSTAMP:20260421T070313
CREATED:20200408T015310Z
LAST-MODIFIED:20200423T220243Z
UID:5033-1586340000-1586347200@lighthousefw.org
SUMMARY:Virtual Support Group
DESCRIPTION:While we continue to monitor the developing effects of the Coronavirus (COVID-19) pandemic\, we would like to stay in communication as much as possible. For the time being\, we’ve decided to host weekly (virtual) support groups and will try to have a guest speaker each week. \nThis week we are excited to have Mr. Bobby Lakey\, the VP of Sales & Marketing\, for Christal Vision join us. Bobby has been working in the field of assistive technology since he was 16 and will be sharing his knowledge of assistive technology devices with everyone. \nPlease join us via Zoom. We know several of you are not familiar with Zoom\, but it is fairly easy to use.  Please allow yourself plenty of time to join the meeting. If you need assistance\, call Shawn Keen at 817-529-7811.\nThere are two ways to join: \n\n\n\nhttps://us02web.zoom.us/j/3237661292\nDial\n(346) 248-7799\n\n\n\nMeeting ID: 323 766 1292 \nWe miss seeing you\, but we’re excited to use the available technology to stay connected. \n  \n  \nWatch here if you were unable to join: https://youtu.be/NhiTsRZcpyc
URL:https://lighthousefw.org/event/virtual-support-group/
ORGANIZER;CN="Kevin Higgins":MAILTO:khiggins@lighthousefw.org
END:VEVENT
END:VCALENDAR