BEGIN:VCALENDAR
VERSION:2.0
PRODID:-//Lighthouse for the Blind - ECPv6.15.17.1//NONSGML v1.0//EN
CALSCALE:GREGORIAN
METHOD:PUBLISH
X-ORIGINAL-URL:https://lighthousefw.org
X-WR-CALDESC:Events for Lighthouse for the Blind
REFRESH-INTERVAL;VALUE=DURATION:PT1H
X-Robots-Tag:noindex
X-PUBLISHED-TTL:PT1H
BEGIN:VTIMEZONE
TZID:America/Chicago
BEGIN:DAYLIGHT
TZOFFSETFROM:-0600
TZOFFSETTO:-0500
TZNAME:CDT
DTSTART:20190310T080000
END:DAYLIGHT
BEGIN:STANDARD
TZOFFSETFROM:-0500
TZOFFSETTO:-0600
TZNAME:CST
DTSTART:20191103T070000
END:STANDARD
BEGIN:DAYLIGHT
TZOFFSETFROM:-0600
TZOFFSETTO:-0500
TZNAME:CDT
DTSTART:20200308T080000
END:DAYLIGHT
BEGIN:STANDARD
TZOFFSETFROM:-0500
TZOFFSETTO:-0600
TZNAME:CST
DTSTART:20201101T070000
END:STANDARD
BEGIN:DAYLIGHT
TZOFFSETFROM:-0600
TZOFFSETTO:-0500
TZNAME:CDT
DTSTART:20210314T080000
END:DAYLIGHT
BEGIN:STANDARD
TZOFFSETFROM:-0500
TZOFFSETTO:-0600
TZNAME:CST
DTSTART:20211107T070000
END:STANDARD
END:VTIMEZONE
BEGIN:VEVENT
DTSTART;TZID=America/Chicago:20200401T100000
DTEND;TZID=America/Chicago:20200401T120000
DTSTAMP:20260421T070731
CREATED:20200302T215301Z
LAST-MODIFIED:20200316T170331Z
UID:5002-1585735200-1585742400@lighthousefw.org
SUMMARY:Canceled: Support Group
DESCRIPTION:In the interest of caution\, and as recommended by health officials\, Lighthouse Client Services will be canceling April’s meeting. \n# # # # \nEvery month we host Support Group for people who are visually impaired or blind. Our adjustment to blindness support group is intended to help people in the blindness community connect with others who have the shared experience of vision loss\, while providing information about resources and teaching strategies and approaches to coping with vision loss \nPlease join us every first Wednesday of the month\, 10 AM to 12 PM. \nSupport Groups are hosted by Kevin Higgins our Certified Vision Rehabilitation Specialist
URL:https://lighthousefw.org/event/support-group-20/
LOCATION:Lighthouse for the Blind of Fort Worth\, 912 West Broadway\, Fort Worth\, TX\, 76104\, United States
ORGANIZER;CN="Kevin Higgins":MAILTO:khiggins@lighthousefw.org
END:VEVENT
BEGIN:VEVENT
DTSTART;TZID=America/Chicago:20200401T120000
DTEND;TZID=America/Chicago:20200401T133000
DTSTAMP:20260421T070731
CREATED:20200302T215411Z
LAST-MODIFIED:20200316T171409Z
UID:5004-1585742400-1585747800@lighthousefw.org
SUMMARY:Canceled: Apple iOS User Group
DESCRIPTION:In the interest of caution\, and as recommended by health officials\, Lighthouse Client Services will be canceling April’s meeting. \n# # # # \nSince the release of the iPhone in 2007\, Apple has taken great strides to make sure all of their products are accessible to people with disabilities. Join us as we learn more about the great features that are contained in these devices. \nApple iOS Users Group \nTopics may include: \n\nLearning to use the iPhone\, iPad\, etc.\nAdvanced voice over and accessibility features\nUseful apps for blind and low vision users\nDemos of other apple products such as the Apple TV\n\nMeetings will be held the first Wednesday of the month at the Lighthouse for the blind from 12:00 to 1:30 PM. Feel free to bring your ideas and suggestions. \nIf you have any questions contact Shawn Keen\, skeen@lighthousefw.org or 817-529-7811
URL:https://lighthousefw.org/event/apple-ios-user-group-4/
LOCATION:Lighthouse for the Blind of Fort Worth\, 912 West Broadway\, Fort Worth\, TX\, 76104\, United States
ORGANIZER;CN="Shawn Keen":MAILTO:skeen@lighthousefw.org
END:VEVENT
END:VCALENDAR