BEGIN:VCALENDAR
VERSION:2.0
PRODID:-//Lighthouse for the Blind - ECPv6.15.17.1//NONSGML v1.0//EN
CALSCALE:GREGORIAN
METHOD:PUBLISH
X-ORIGINAL-URL:https://lighthousefw.org
X-WR-CALDESC:Events for Lighthouse for the Blind
REFRESH-INTERVAL;VALUE=DURATION:PT1H
X-Robots-Tag:noindex
X-PUBLISHED-TTL:PT1H
BEGIN:VTIMEZONE
TZID:America/Chicago
BEGIN:DAYLIGHT
TZOFFSETFROM:-0600
TZOFFSETTO:-0500
TZNAME:CDT
DTSTART:20170312T080000
END:DAYLIGHT
BEGIN:STANDARD
TZOFFSETFROM:-0500
TZOFFSETTO:-0600
TZNAME:CST
DTSTART:20171105T070000
END:STANDARD
BEGIN:DAYLIGHT
TZOFFSETFROM:-0600
TZOFFSETTO:-0500
TZNAME:CDT
DTSTART:20180311T080000
END:DAYLIGHT
BEGIN:STANDARD
TZOFFSETFROM:-0500
TZOFFSETTO:-0600
TZNAME:CST
DTSTART:20181104T070000
END:STANDARD
BEGIN:DAYLIGHT
TZOFFSETFROM:-0600
TZOFFSETTO:-0500
TZNAME:CDT
DTSTART:20190310T080000
END:DAYLIGHT
BEGIN:STANDARD
TZOFFSETFROM:-0500
TZOFFSETTO:-0600
TZNAME:CST
DTSTART:20191103T070000
END:STANDARD
END:VTIMEZONE
BEGIN:VEVENT
DTSTART;TZID=America/Chicago:20181113T093000
DTEND;TZID=America/Chicago:20181113T113000
DTSTAMP:20260422T081420
CREATED:20181022T144632Z
LAST-MODIFIED:20181022T144632Z
UID:4328-1542101400-1542108600@lighthousefw.org
SUMMARY:Create A Vision Art Class
DESCRIPTION:Hey Everyone\, for the month of November we going to get into the decorating spirit! \nCome join the Create-A-Vision art class as we make seasonal wreaths. The class will be hosted on Tuesday November 13th from 9:30-11:30am. \nPlease RSVP by November 1st\, seating is limited.
URL:https://lighthousefw.org/event/create-a-vision-art-class-3/
LOCATION:Lighthouse for the Blind of Fort Worth\, 912 West Broadway\, Fort Worth\, TX\, 76104\, United States
ORGANIZER;CN="Lauren Bowen":MAILTO:lbowen@lighthousefw.org
END:VEVENT
BEGIN:VEVENT
DTSTART;TZID=America/Chicago:20181113T163000
DTEND;TZID=America/Chicago:20181113T171500
DTSTAMP:20260422T081420
CREATED:20181016T180824Z
LAST-MODIFIED:20181016T180824Z
UID:4322-1542126600-1542129300@lighthousefw.org
SUMMARY:Advocacy Class
DESCRIPTION:Join Andrew Bernet for his monthly Advocacy Class from 4:30-5:15pm. \nWhether you are wanting to learn how to receive your medical records in an accessible format or have your city fix the pedestrian crosswalk button at an intersection we will cover it all. Come ready to talk about your interest around this topic. \nMust RSVP by Thursday\, November 8th.
URL:https://lighthousefw.org/event/advocacy-class-7/
LOCATION:Lighthouse for the Blind of Fort Worth\, 912 West Broadway\, Fort Worth\, TX\, 76104\, United States
ORGANIZER;CN="Andrew Bernet":MAILTO:abernet@lighthousefw.org
END:VEVENT
END:VCALENDAR