BEGIN:VCALENDAR
VERSION:2.0
PRODID:-//Lighthouse for the Blind - ECPv6.15.17.1//NONSGML v1.0//EN
CALSCALE:GREGORIAN
METHOD:PUBLISH
X-WR-CALNAME:Lighthouse for the Blind
X-ORIGINAL-URL:https://lighthousefw.org
X-WR-CALDESC:Events for Lighthouse for the Blind
REFRESH-INTERVAL;VALUE=DURATION:PT1H
X-Robots-Tag:noindex
X-PUBLISHED-TTL:PT1H
BEGIN:VTIMEZONE
TZID:America/Chicago
BEGIN:DAYLIGHT
TZOFFSETFROM:-0600
TZOFFSETTO:-0500
TZNAME:CDT
DTSTART:20170312T080000
END:DAYLIGHT
BEGIN:STANDARD
TZOFFSETFROM:-0500
TZOFFSETTO:-0600
TZNAME:CST
DTSTART:20171105T070000
END:STANDARD
BEGIN:DAYLIGHT
TZOFFSETFROM:-0600
TZOFFSETTO:-0500
TZNAME:CDT
DTSTART:20180311T080000
END:DAYLIGHT
BEGIN:STANDARD
TZOFFSETFROM:-0500
TZOFFSETTO:-0600
TZNAME:CST
DTSTART:20181104T070000
END:STANDARD
BEGIN:DAYLIGHT
TZOFFSETFROM:-0600
TZOFFSETTO:-0500
TZNAME:CDT
DTSTART:20190310T080000
END:DAYLIGHT
BEGIN:STANDARD
TZOFFSETFROM:-0500
TZOFFSETTO:-0600
TZNAME:CST
DTSTART:20191103T070000
END:STANDARD
END:VTIMEZONE
BEGIN:VEVENT
DTSTART;TZID=America/Chicago:20181018T093000
DTEND;TZID=America/Chicago:20181018T133000
DTSTAMP:20260422T094343
CREATED:20181003T195619Z
LAST-MODIFIED:20181003T195619Z
UID:4293-1539855000-1539869400@lighthousefw.org
SUMMARY:North Texas White Cane Safety Day
DESCRIPTION:MOBILITY TECH: The Next Frontier \nTechnology: the next frontier. These are the voyages of the Starship Mobility. Its mission: to explore strange new worlds\, to seek out new technology\, to boldly go where no one has gone before. Come join us as we explore the Fort Worth Stockyards using some of the latest technology. \nThursday October 18\, 2018 9:30am – 1:30pm \nTo register visit\, www.whitecanesafetyday.info \n2018 North Texas White Cane Safety Day Schedule \n9:00am – 10:00am Registration\n9:30am – 11:00am Activities\n• Scavenger Hunt\n• Explore a city bus\n• Ride Bus #15 to the end of the line and return\n• Explore the Fort Worth Lighthouse Independent Living RV\n• Visit with vendors\n11:15am – 11:45am Pictures in the Stampede Room\n11:45am Lunch \n12:15pm – 1:30pm Program \nThis year we are doing our schedule a little different. We will have activities that you can do in any order between 9:30am – 11:00am. We will use beacons to mark all activities so that you can use your cell phone to find them. The vendors will be in the Stampede Room and will also be marked with beacons. \n  \nWhite Cane Safety Day is an opportunity to educate the public about the White Cane Safety Laws and to celebrate independent travel of individuals with a visual impairment. Participants go on a scavenger hunt to learn the technology used today to travel independently and how to travel with a dog guide. The Lone Star Guide Dog Raisers will be along the route this year to share information about the stages of raising a guide dog and how to obtain a guide dog. Participants will also have an opportunity to explore a city bus\, ride a city bus\, explore the Fort Worth Lighthouse independent living RV\, and meet with vendors representing current technology involved in travel. Then everyone is invited to a Texas-style lunch of BBQ\, followed by a program and awards ceremony.
URL:https://lighthousefw.org/event/north-texas-white-cane-safety-day/
LOCATION:Fort Worth Stockyards\, Fort Worth\, TX\, 76116\, United States
END:VEVENT
END:VCALENDAR