BEGIN:VCALENDAR
VERSION:2.0
PRODID:-//Lighthouse for the Blind - ECPv6.15.17.1//NONSGML v1.0//EN
CALSCALE:GREGORIAN
METHOD:PUBLISH
X-ORIGINAL-URL:https://lighthousefw.org
X-WR-CALDESC:Events for Lighthouse for the Blind
REFRESH-INTERVAL;VALUE=DURATION:PT1H
X-Robots-Tag:noindex
X-PUBLISHED-TTL:PT1H
BEGIN:VTIMEZONE
TZID:America/Chicago
BEGIN:DAYLIGHT
TZOFFSETFROM:-0600
TZOFFSETTO:-0500
TZNAME:CDT
DTSTART:20170312T080000
END:DAYLIGHT
BEGIN:STANDARD
TZOFFSETFROM:-0500
TZOFFSETTO:-0600
TZNAME:CST
DTSTART:20171105T070000
END:STANDARD
BEGIN:DAYLIGHT
TZOFFSETFROM:-0600
TZOFFSETTO:-0500
TZNAME:CDT
DTSTART:20180311T080000
END:DAYLIGHT
BEGIN:STANDARD
TZOFFSETFROM:-0500
TZOFFSETTO:-0600
TZNAME:CST
DTSTART:20181104T070000
END:STANDARD
BEGIN:DAYLIGHT
TZOFFSETFROM:-0600
TZOFFSETTO:-0500
TZNAME:CDT
DTSTART:20190310T080000
END:DAYLIGHT
BEGIN:STANDARD
TZOFFSETFROM:-0500
TZOFFSETTO:-0600
TZNAME:CST
DTSTART:20191103T070000
END:STANDARD
END:VTIMEZONE
BEGIN:VEVENT
DTSTART;TZID=America/Chicago:20181013T140000
DTEND;TZID=America/Chicago:20181013T160000
DTSTAMP:20260422T094354
CREATED:20181003T194828Z
LAST-MODIFIED:20181003T194828Z
UID:4290-1539439200-1539446400@lighthousefw.org
SUMMARY:October Blind Dine
DESCRIPTION:October’s Blind Dine will be held at The Woodshed – Saturday\, October 13th\, 2 pm to 4 pm. \nThe Woodshed is located at 3201 Riverfront Dr\, Fort Worth\, TX 76107. \nPlease RSVP by Thursday\, October 11th. \nCome out and enjoy great food & friends! \nWe will have a low vision and Braille menu available on site. \nFor more info\, contact skeen@lighthousefw.org or call 817-332-3341.
URL:https://lighthousefw.org/event/october-blind-dine/
LOCATION:The Woodshed\, 3201 Riverfront Dr\, Fort Worth\, TX\, 76107\, United States
ORGANIZER;CN="Shawn Keen":MAILTO:skeen@lighthousefw.org
END:VEVENT
END:VCALENDAR