BEGIN:VCALENDAR
VERSION:2.0
PRODID:-//Lighthouse for the Blind - ECPv6.15.17.1//NONSGML v1.0//EN
CALSCALE:GREGORIAN
METHOD:PUBLISH
X-WR-CALNAME:Lighthouse for the Blind
X-ORIGINAL-URL:https://lighthousefw.org
X-WR-CALDESC:Events for Lighthouse for the Blind
REFRESH-INTERVAL;VALUE=DURATION:PT1H
X-Robots-Tag:noindex
X-PUBLISHED-TTL:PT1H
BEGIN:VTIMEZONE
TZID:America/Chicago
BEGIN:DAYLIGHT
TZOFFSETFROM:-0600
TZOFFSETTO:-0500
TZNAME:CDT
DTSTART:20170312T080000
END:DAYLIGHT
BEGIN:STANDARD
TZOFFSETFROM:-0500
TZOFFSETTO:-0600
TZNAME:CST
DTSTART:20171105T070000
END:STANDARD
BEGIN:DAYLIGHT
TZOFFSETFROM:-0600
TZOFFSETTO:-0500
TZNAME:CDT
DTSTART:20180311T080000
END:DAYLIGHT
BEGIN:STANDARD
TZOFFSETFROM:-0500
TZOFFSETTO:-0600
TZNAME:CST
DTSTART:20181104T070000
END:STANDARD
BEGIN:DAYLIGHT
TZOFFSETFROM:-0600
TZOFFSETTO:-0500
TZNAME:CDT
DTSTART:20190310T080000
END:DAYLIGHT
BEGIN:STANDARD
TZOFFSETFROM:-0500
TZOFFSETTO:-0600
TZNAME:CST
DTSTART:20191103T070000
END:STANDARD
END:VTIMEZONE
BEGIN:VEVENT
DTSTART;TZID=America/Chicago:20181009T093000
DTEND;TZID=America/Chicago:20181009T113000
DTSTAMP:20260422T094338
CREATED:20181003T194142Z
LAST-MODIFIED:20181003T194142Z
UID:4288-1539077400-1539084600@lighthousefw.org
SUMMARY:Create A Vision Art Class
DESCRIPTION:All Right Everyone\, it’s that time again for Create- A- Vision art class. With it being the season of candy\, costumes\, and fun we will be making Jack-O- Lanterns. The class will be held on October 9th 2018 from 9:30AM- 11:30AM. \nThe lighthouse will be providing all the supplies necessary for this class. Please RSVP by no later than Monday October 8th 2018. Hope to see you there!
URL:https://lighthousefw.org/event/create-a-vision-art-class-2/
LOCATION:Lighthouse for the Blind of Fort Worth\, 912 West Broadway\, Fort Worth\, TX\, 76104\, United States
END:VEVENT
BEGIN:VEVENT
DTSTART;TZID=America/Chicago:20181009T163000
DTEND;TZID=America/Chicago:20181009T171500
DTSTAMP:20260422T094338
CREATED:20181003T193559Z
LAST-MODIFIED:20181003T193559Z
UID:4286-1539102600-1539105300@lighthousefw.org
SUMMARY:Advocacy Class
DESCRIPTION:Join Andrew Bernet for Advocacy class from 4:30-5:15pm. \nWhether you are wanting to learn how to receive your medical records in an accessible format or have your city fix the pedestrian crosswalk button at an intersection we will cover it all. Come ready to talk about your interest around this topic. \nMust RSVP by Thursday October 4th.
URL:https://lighthousefw.org/event/advocacy-class-6/
LOCATION:Lighthouse for the Blind of Fort Worth\, 912 West Broadway\, Fort Worth\, TX\, 76104\, United States
ORGANIZER;CN="Andrew Bernet":MAILTO:abernet@lighthousefw.org
END:VEVENT
END:VCALENDAR