BEGIN:VCALENDAR
VERSION:2.0
PRODID:-//Lighthouse for the Blind - ECPv6.15.17.1//NONSGML v1.0//EN
CALSCALE:GREGORIAN
METHOD:PUBLISH
X-WR-CALNAME:Lighthouse for the Blind
X-ORIGINAL-URL:https://lighthousefw.org
X-WR-CALDESC:Events for Lighthouse for the Blind
REFRESH-INTERVAL;VALUE=DURATION:PT1H
X-Robots-Tag:noindex
X-PUBLISHED-TTL:PT1H
BEGIN:VTIMEZONE
TZID:America/Chicago
BEGIN:DAYLIGHT
TZOFFSETFROM:-0600
TZOFFSETTO:-0500
TZNAME:CDT
DTSTART:20170312T080000
END:DAYLIGHT
BEGIN:STANDARD
TZOFFSETFROM:-0500
TZOFFSETTO:-0600
TZNAME:CST
DTSTART:20171105T070000
END:STANDARD
BEGIN:DAYLIGHT
TZOFFSETFROM:-0600
TZOFFSETTO:-0500
TZNAME:CDT
DTSTART:20180311T080000
END:DAYLIGHT
BEGIN:STANDARD
TZOFFSETFROM:-0500
TZOFFSETTO:-0600
TZNAME:CST
DTSTART:20181104T070000
END:STANDARD
BEGIN:DAYLIGHT
TZOFFSETFROM:-0600
TZOFFSETTO:-0500
TZNAME:CDT
DTSTART:20190310T080000
END:DAYLIGHT
BEGIN:STANDARD
TZOFFSETFROM:-0500
TZOFFSETTO:-0600
TZNAME:CST
DTSTART:20191103T070000
END:STANDARD
END:VTIMEZONE
BEGIN:VEVENT
DTSTART;TZID=America/Chicago:20181006T080000
DTEND;TZID=America/Chicago:20181006T170000
DTSTAMP:20260422T094340
CREATED:20181003T193324Z
LAST-MODIFIED:20181003T193324Z
UID:4284-1538812800-1538845200@lighthousefw.org
SUMMARY:National Blind Sports Day
DESCRIPTION:Join Andrew Bernet for an O&M expedition to Plano. The group will meet at the Lighthouse at 8am to ride the train to Plano. We will travel to meet up with representatives from the United States Association of Blind Athletes (USABA) for a two hour seminar about fitness and ways to get active. After the seminar\,  we will get lunch together and ride the train back to Fort Worth. \nYou must RSVP to Andrew by the end of the day on Wednesday October 3rd.
URL:https://lighthousefw.org/event/national-blind-sports-day/
LOCATION:Lighthouse for the Blind of Fort Worth\, 912 West Broadway\, Fort Worth\, TX\, 76104\, United States
ORGANIZER;CN="Andrew Bernet":MAILTO:abernet@lighthousefw.org
END:VEVENT
END:VCALENDAR