BEGIN:VCALENDAR
VERSION:2.0
PRODID:-//Lighthouse for the Blind - ECPv6.15.17.1//NONSGML v1.0//EN
CALSCALE:GREGORIAN
METHOD:PUBLISH
X-ORIGINAL-URL:https://lighthousefw.org
X-WR-CALDESC:Events for Lighthouse for the Blind
REFRESH-INTERVAL;VALUE=DURATION:PT1H
X-Robots-Tag:noindex
X-PUBLISHED-TTL:PT1H
BEGIN:VTIMEZONE
TZID:America/Chicago
BEGIN:DAYLIGHT
TZOFFSETFROM:-0600
TZOFFSETTO:-0500
TZNAME:CDT
DTSTART:20170312T080000
END:DAYLIGHT
BEGIN:STANDARD
TZOFFSETFROM:-0500
TZOFFSETTO:-0600
TZNAME:CST
DTSTART:20171105T070000
END:STANDARD
BEGIN:DAYLIGHT
TZOFFSETFROM:-0600
TZOFFSETTO:-0500
TZNAME:CDT
DTSTART:20180311T080000
END:DAYLIGHT
BEGIN:STANDARD
TZOFFSETFROM:-0500
TZOFFSETTO:-0600
TZNAME:CST
DTSTART:20181104T070000
END:STANDARD
BEGIN:DAYLIGHT
TZOFFSETFROM:-0600
TZOFFSETTO:-0500
TZNAME:CDT
DTSTART:20190310T080000
END:DAYLIGHT
BEGIN:STANDARD
TZOFFSETFROM:-0500
TZOFFSETTO:-0600
TZNAME:CST
DTSTART:20191103T070000
END:STANDARD
END:VTIMEZONE
BEGIN:VEVENT
DTSTART;TZID=America/Chicago:20180911T093000
DTEND;TZID=America/Chicago:20180911T110000
DTSTAMP:20260422T110713
CREATED:20180828T193616Z
LAST-MODIFIED:20180828T193616Z
UID:3773-1536658200-1536663600@lighthousefw.org
SUMMARY:Art Class
DESCRIPTION:Come join our Create-A-Vision art class September 11\, 2018 from 9:30-11:00. We made wind chimes last month; continuing with this we will make wind chimes again but I ask that participants bring items they would like to use from home. Get rid of stuff from your junk drawer and come make something fun! \nRSVP to Lauren Bowen by Sunday\, September 9th at lbowen@lighthousefw.org or 817-332-3341.
URL:https://lighthousefw.org/event/art-class/
LOCATION:Lighthouse for the Blind of Fort Worth\, 912 West Broadway\, Fort Worth\, TX\, 76104\, United States
ORGANIZER;CN="Lauren Bowen":MAILTO:lbowen@lighthousefw.org
END:VEVENT
BEGIN:VEVENT
DTSTART;TZID=America/Chicago:20180911T163000
DTEND;TZID=America/Chicago:20180911T171500
DTSTAMP:20260422T110713
CREATED:20180828T193908Z
LAST-MODIFIED:20180828T193908Z
UID:3775-1536683400-1536686100@lighthousefw.org
SUMMARY:Advocacy Class
DESCRIPTION:Looking for a way to make sure your voice is heard correctly when advocating for your needs due to vision loss? \nJoin Andrew Bernet Tuesday\, September 11th 4:30 pm – 5:15 pm for his monthly advocacy class. \nContact Andrew at abernet@lighthousefw.org or 817.332.3341 for more information.
URL:https://lighthousefw.org/event/advocacy-class-5/
LOCATION:Lighthouse for the Blind of Fort Worth\, 912 West Broadway\, Fort Worth\, TX\, 76104\, United States
ORGANIZER;CN="Andrew Bernet":MAILTO:abernet@lighthousefw.org
END:VEVENT
END:VCALENDAR