BEGIN:VCALENDAR
VERSION:2.0
PRODID:-//Lighthouse for the Blind - ECPv6.15.17.1//NONSGML v1.0//EN
CALSCALE:GREGORIAN
METHOD:PUBLISH
X-ORIGINAL-URL:https://lighthousefw.org
X-WR-CALDESC:Events for Lighthouse for the Blind
REFRESH-INTERVAL;VALUE=DURATION:PT1H
X-Robots-Tag:noindex
X-PUBLISHED-TTL:PT1H
BEGIN:VTIMEZONE
TZID:America/Chicago
BEGIN:DAYLIGHT
TZOFFSETFROM:-0600
TZOFFSETTO:-0500
TZNAME:CDT
DTSTART:20170312T080000
END:DAYLIGHT
BEGIN:STANDARD
TZOFFSETFROM:-0500
TZOFFSETTO:-0600
TZNAME:CST
DTSTART:20171105T070000
END:STANDARD
BEGIN:DAYLIGHT
TZOFFSETFROM:-0600
TZOFFSETTO:-0500
TZNAME:CDT
DTSTART:20180311T080000
END:DAYLIGHT
BEGIN:STANDARD
TZOFFSETFROM:-0500
TZOFFSETTO:-0600
TZNAME:CST
DTSTART:20181104T070000
END:STANDARD
BEGIN:DAYLIGHT
TZOFFSETFROM:-0600
TZOFFSETTO:-0500
TZNAME:CDT
DTSTART:20190310T080000
END:DAYLIGHT
BEGIN:STANDARD
TZOFFSETFROM:-0500
TZOFFSETTO:-0600
TZNAME:CST
DTSTART:20191103T070000
END:STANDARD
END:VTIMEZONE
BEGIN:VEVENT
DTSTART;TZID=America/Chicago:20180508T080000
DTEND;TZID=America/Chicago:20180508T170000
DTSTAMP:20260422T164019
CREATED:20180508T192343Z
LAST-MODIFIED:20180508T192343Z
UID:3666-1525766400-1525798800@lighthousefw.org
SUMMARY:Cooking Without Looking
DESCRIPTION:Join Kevin Higgins on Wednesday\, May 30th\, 9:30 a.m. to 11:30 a.m. for our monthly Cooking Without Looking Presented By GUS BATES Insurance & Investments! \nThis month we will we make a wonderfully delicious vegan peanut butter mug cake. Don’t miss out on all of the nuttiness! \nPlease RSVP by Sunday\, May 27th.  Click Here to RSVP \nFor more information\, contact Kevin Higgins at khiggins@lighthousefw.org or call 817.332.3341.
URL:https://lighthousefw.org/event/cooking-without-looking-5/
END:VEVENT
BEGIN:VEVENT
DTSTART;TZID=America/Chicago:20180508T163000
DTEND;TZID=America/Chicago:20180508T171500
DTSTAMP:20260422T164019
CREATED:20180502T155556Z
LAST-MODIFIED:20180502T155556Z
UID:3632-1525797000-1525799700@lighthousefw.org
SUMMARY:Advocacy Class
DESCRIPTION:Looking for a way to make sure your voice is heard correctly when advocating for your needs due to vision loss? \nJoin Andrew Bernet Tuesday\, May 8th 4:30 pm – 5:15 pm for his monthly advocacy class. \nContact Andrew at abernet@lighthousefw.org or 817.332.3341 for more information.
URL:https://lighthousefw.org/event/advocacy-class-2/
LOCATION:Lighthouse for the Blind of Fort Worth\, 912 West Broadway\, Fort Worth\, TX\, 76104\, United States
END:VEVENT
END:VCALENDAR