BEGIN:VCALENDAR
VERSION:2.0
PRODID:-//Lighthouse for the Blind - ECPv6.15.17.1//NONSGML v1.0//EN
CALSCALE:GREGORIAN
METHOD:PUBLISH
X-ORIGINAL-URL:https://lighthousefw.org
X-WR-CALDESC:Events for Lighthouse for the Blind
REFRESH-INTERVAL;VALUE=DURATION:PT1H
X-Robots-Tag:noindex
X-PUBLISHED-TTL:PT1H
BEGIN:VTIMEZONE
TZID:America/Chicago
BEGIN:DAYLIGHT
TZOFFSETFROM:-0600
TZOFFSETTO:-0500
TZNAME:CDT
DTSTART:20170312T080000
END:DAYLIGHT
BEGIN:STANDARD
TZOFFSETFROM:-0500
TZOFFSETTO:-0600
TZNAME:CST
DTSTART:20171105T070000
END:STANDARD
BEGIN:DAYLIGHT
TZOFFSETFROM:-0600
TZOFFSETTO:-0500
TZNAME:CDT
DTSTART:20180311T080000
END:DAYLIGHT
BEGIN:STANDARD
TZOFFSETFROM:-0500
TZOFFSETTO:-0600
TZNAME:CST
DTSTART:20181104T070000
END:STANDARD
BEGIN:DAYLIGHT
TZOFFSETFROM:-0600
TZOFFSETTO:-0500
TZNAME:CDT
DTSTART:20190310T080000
END:DAYLIGHT
BEGIN:STANDARD
TZOFFSETFROM:-0500
TZOFFSETTO:-0600
TZNAME:CST
DTSTART:20191103T070000
END:STANDARD
END:VTIMEZONE
BEGIN:VEVENT
DTSTART;TZID=America/Chicago:20180425T093000
DTEND;TZID=America/Chicago:20180425T113000
DTSTAMP:20260422T181252
CREATED:20180404T150913Z
LAST-MODIFIED:20180404T150913Z
UID:3597-1524648600-1524655800@lighthousefw.org
SUMMARY:April's Cooking Without Looking
DESCRIPTION:Join Kevin Higgins on Wednesday\, April 25th\, 9:30 a.m. to 11:30 a.m. for our monthly Cooking Without Looking Presented By GUS BATES Insurance & Investments! \nThis month we will learn how to make French toast using the handy George Foreman grill. Don’t miss out on all of the fried French fun! Bon appetit! \nPlease RSVP by Sunday\, April 22nd. Click Here to RSVP \nFor more information\, contact Kevin Higgins at khiggins@lighthousefw.org or call 817.332.3341.
URL:https://lighthousefw.org/event/aprils-cooking-without-looking/
LOCATION:Lighthouse for the Blind of Fort Worth\, 912 West Broadway\, Fort Worth\, TX\, 76104\, United States
END:VEVENT
END:VCALENDAR