BEGIN:VCALENDAR
VERSION:2.0
PRODID:-//Lighthouse for the Blind - ECPv6.15.17.1//NONSGML v1.0//EN
CALSCALE:GREGORIAN
METHOD:PUBLISH
X-WR-CALNAME:Lighthouse for the Blind
X-ORIGINAL-URL:https://lighthousefw.org
X-WR-CALDESC:Events for Lighthouse for the Blind
REFRESH-INTERVAL;VALUE=DURATION:PT1H
X-Robots-Tag:noindex
X-PUBLISHED-TTL:PT1H
BEGIN:VTIMEZONE
TZID:America/Chicago
BEGIN:DAYLIGHT
TZOFFSETFROM:-0600
TZOFFSETTO:-0500
TZNAME:CDT
DTSTART:20170312T080000
END:DAYLIGHT
BEGIN:STANDARD
TZOFFSETFROM:-0500
TZOFFSETTO:-0600
TZNAME:CST
DTSTART:20171105T070000
END:STANDARD
BEGIN:DAYLIGHT
TZOFFSETFROM:-0600
TZOFFSETTO:-0500
TZNAME:CDT
DTSTART:20180311T080000
END:DAYLIGHT
BEGIN:STANDARD
TZOFFSETFROM:-0500
TZOFFSETTO:-0600
TZNAME:CST
DTSTART:20181104T070000
END:STANDARD
BEGIN:DAYLIGHT
TZOFFSETFROM:-0600
TZOFFSETTO:-0500
TZNAME:CDT
DTSTART:20190310T080000
END:DAYLIGHT
BEGIN:STANDARD
TZOFFSETFROM:-0500
TZOFFSETTO:-0600
TZNAME:CST
DTSTART:20191103T070000
END:STANDARD
END:VTIMEZONE
BEGIN:VEVENT
DTSTART;TZID=America/Chicago:20180414T140000
DTEND;TZID=America/Chicago:20180414T160000
DTSTAMP:20260422T181145
CREATED:20180402T183443Z
LAST-MODIFIED:20180402T184125Z
UID:3579-1523714400-1523721600@lighthousefw.org
SUMMARY:April Blind Dine
DESCRIPTION:April’s Blind Dine will be held at Shaw’s Patio Bar & Grill – Saturday\, April 14th\, 2 pm to 4 pm. \nShaw’s is located at 1051 W Magnolia Ave\, Fort Worth\, TX 76104 \nPlease RSVP by Wednesday\, April 11th. \nCome out and enjoy great food & friends! \nWe will have a low vision and Braille menu available on site. \nFor more info\, contact skeen@lighthousefw.org or call 817-332-3341. \nRSVP Here
URL:https://lighthousefw.org/event/april-blind-dine/
LOCATION:Shaw’s Patio Bar & Grill\, 1051 W Magnolia Ave\, Fort Worth\, TX\, 76104\, United States
END:VEVENT
END:VCALENDAR