BEGIN:VCALENDAR
VERSION:2.0
PRODID:-//Lighthouse for the Blind - ECPv6.15.17.1//NONSGML v1.0//EN
CALSCALE:GREGORIAN
METHOD:PUBLISH
X-WR-CALNAME:Lighthouse for the Blind
X-ORIGINAL-URL:https://lighthousefw.org
X-WR-CALDESC:Events for Lighthouse for the Blind
REFRESH-INTERVAL;VALUE=DURATION:PT1H
X-Robots-Tag:noindex
X-PUBLISHED-TTL:PT1H
BEGIN:VTIMEZONE
TZID:America/Chicago
BEGIN:DAYLIGHT
TZOFFSETFROM:-0600
TZOFFSETTO:-0500
TZNAME:CDT
DTSTART:20170312T080000
END:DAYLIGHT
BEGIN:STANDARD
TZOFFSETFROM:-0500
TZOFFSETTO:-0600
TZNAME:CST
DTSTART:20171105T070000
END:STANDARD
BEGIN:DAYLIGHT
TZOFFSETFROM:-0600
TZOFFSETTO:-0500
TZNAME:CDT
DTSTART:20180311T080000
END:DAYLIGHT
BEGIN:STANDARD
TZOFFSETFROM:-0500
TZOFFSETTO:-0600
TZNAME:CST
DTSTART:20181104T070000
END:STANDARD
BEGIN:DAYLIGHT
TZOFFSETFROM:-0600
TZOFFSETTO:-0500
TZNAME:CDT
DTSTART:20190310T080000
END:DAYLIGHT
BEGIN:STANDARD
TZOFFSETFROM:-0500
TZOFFSETTO:-0600
TZNAME:CST
DTSTART:20191103T070000
END:STANDARD
END:VTIMEZONE
BEGIN:VEVENT
DTSTART;TZID=America/Chicago:20180404T100000
DTEND;TZID=America/Chicago:20180404T120000
DTSTAMP:20260422T181130
CREATED:20180402T203510Z
LAST-MODIFIED:20180402T203510Z
UID:3583-1522836000-1522843200@lighthousefw.org
SUMMARY:Support Group
DESCRIPTION:Every month we host Support Group for people who are visually impaired or blind. \nPlease join us every first Wednesday of the month. \nSupport Groups are hosted by Kevin Higgins our Certified Vision Rehabilitation Specialist.
URL:https://lighthousefw.org/event/support-group-3/
LOCATION:Lighthouse for the Blind of Fort Worth\, 912 West Broadway\, Fort Worth\, TX\, 76104\, United States
END:VEVENT
BEGIN:VEVENT
DTSTART;TZID=America/Chicago:20180404T120000
DTEND;TZID=America/Chicago:20180404T140000
DTSTAMP:20260422T181130
CREATED:20180402T204305Z
LAST-MODIFIED:20180402T204333Z
UID:3585-1522843200-1522850400@lighthousefw.org
SUMMARY:Online Grocery Ordering
DESCRIPTION:Grocery delivery has become a huge market and is very convenient for people who are blind or visually impaired. \nJoin Shawn Keen to learn all about ordering from websites like Amazon Fresh\, iPhone Apps like Instacart\, and ordering food from restaurants on apps like Uber Eats and Door Dash. \nPlease RSVP by Monday\, April 2nd. \nShawn Keen – skeen@lighthousefw.org\nLighthouse for the Blind\n817-332-3341
URL:https://lighthousefw.org/event/3585/
LOCATION:Lighthouse for the Blind of Fort Worth\, 912 West Broadway\, Fort Worth\, TX\, 76104\, United States
END:VEVENT
END:VCALENDAR