BEGIN:VCALENDAR
VERSION:2.0
PRODID:-//Lighthouse for the Blind - ECPv6.15.17.1//NONSGML v1.0//EN
CALSCALE:GREGORIAN
METHOD:PUBLISH
X-ORIGINAL-URL:https://lighthousefw.org
X-WR-CALDESC:Events for Lighthouse for the Blind
REFRESH-INTERVAL;VALUE=DURATION:PT1H
X-Robots-Tag:noindex
X-PUBLISHED-TTL:PT1H
BEGIN:VTIMEZONE
TZID:America/Chicago
BEGIN:DAYLIGHT
TZOFFSETFROM:-0600
TZOFFSETTO:-0500
TZNAME:CDT
DTSTART:20170312T080000
END:DAYLIGHT
BEGIN:STANDARD
TZOFFSETFROM:-0500
TZOFFSETTO:-0600
TZNAME:CST
DTSTART:20171105T070000
END:STANDARD
BEGIN:DAYLIGHT
TZOFFSETFROM:-0600
TZOFFSETTO:-0500
TZNAME:CDT
DTSTART:20180311T080000
END:DAYLIGHT
BEGIN:STANDARD
TZOFFSETFROM:-0500
TZOFFSETTO:-0600
TZNAME:CST
DTSTART:20181104T070000
END:STANDARD
BEGIN:DAYLIGHT
TZOFFSETFROM:-0600
TZOFFSETTO:-0500
TZNAME:CDT
DTSTART:20190310T080000
END:DAYLIGHT
BEGIN:STANDARD
TZOFFSETFROM:-0500
TZOFFSETTO:-0600
TZNAME:CST
DTSTART:20191103T070000
END:STANDARD
END:VTIMEZONE
BEGIN:VEVENT
DTSTART;TZID=America/Chicago:20180328T093000
DTEND;TZID=America/Chicago:20180328T113000
DTSTAMP:20260422T181138
CREATED:20180320T132342Z
LAST-MODIFIED:20180320T132342Z
UID:3573-1522229400-1522236600@lighthousefw.org
SUMMARY:March Cooking Without Looking
DESCRIPTION:Join Kevin Higgins on Wednesday\, March 28th\, 9:30 a.m. to 11:30 a.m. for our monthly Cooking Without Looking Presented By GUS BATES Insurance & Investments! \n\n\nJoin us this month for Cooking without Looking as we make Panini sandwiches.\nCome and learn how to customize and grill your own delicious Panini sandwich. See you there!\n\n\n  \nPlease RSVP by Sunday\, March 25th. \nFor more information\, contact Kevin Higgins at khiggins@lighthousefw.org or call 817.332.3341.
URL:https://lighthousefw.org/event/march-cooking-without-looking/
LOCATION:Lighthouse for the Blind of Fort Worth\, 912 West Broadway\, Fort Worth\, TX\, 76104\, United States
END:VEVENT
END:VCALENDAR