BEGIN:VCALENDAR
VERSION:2.0
PRODID:-//Lighthouse for the Blind - ECPv6.15.17.1//NONSGML v1.0//EN
CALSCALE:GREGORIAN
METHOD:PUBLISH
X-ORIGINAL-URL:https://lighthousefw.org
X-WR-CALDESC:Events for Lighthouse for the Blind
REFRESH-INTERVAL;VALUE=DURATION:PT1H
X-Robots-Tag:noindex
X-PUBLISHED-TTL:PT1H
BEGIN:VTIMEZONE
TZID:America/Chicago
BEGIN:DAYLIGHT
TZOFFSETFROM:-0600
TZOFFSETTO:-0500
TZNAME:CDT
DTSTART:20160313T080000
END:DAYLIGHT
BEGIN:STANDARD
TZOFFSETFROM:-0500
TZOFFSETTO:-0600
TZNAME:CST
DTSTART:20161106T070000
END:STANDARD
BEGIN:DAYLIGHT
TZOFFSETFROM:-0600
TZOFFSETTO:-0500
TZNAME:CDT
DTSTART:20170312T080000
END:DAYLIGHT
BEGIN:STANDARD
TZOFFSETFROM:-0500
TZOFFSETTO:-0600
TZNAME:CST
DTSTART:20171105T070000
END:STANDARD
BEGIN:DAYLIGHT
TZOFFSETFROM:-0600
TZOFFSETTO:-0500
TZNAME:CDT
DTSTART:20180311T080000
END:DAYLIGHT
BEGIN:STANDARD
TZOFFSETFROM:-0500
TZOFFSETTO:-0600
TZNAME:CST
DTSTART:20181104T070000
END:STANDARD
END:VTIMEZONE
BEGIN:VEVENT
DTSTART;TZID=America/Chicago:20170830T093000
DTEND;TZID=America/Chicago:20170830T233000
DTSTAMP:20260423T040236
CREATED:20170815T165817Z
LAST-MODIFIED:20170816T221100Z
UID:3277-1504085400-1504135800@lighthousefw.org
SUMMARY:Cooking Without Looking Presented By GUS BATES Insurance & Investments
DESCRIPTION:Join Kevin Higgins on Wednesday\, August 30th\, 9:30 a.m. to 11:30 a.m. for our monthly Cooking Without Looking Presented By GUS BATES Insurance & Investments! \nThis month we’ll be learning how to make delicious tortilla soup. \nCome join us for some fun! \nPlease RSVP by Monday\, August 28th. \nFor more information\, contact Kevin Higgins at khiggins@lighthousefw.org or call 817.332.3341.
URL:https://lighthousefw.org/event/cooking-without-looking-4/
LOCATION:Lighthouse for the Blind of Fort Worth\, 912 West Broadway\, Fort Worth\, TX\, 76104\, United States
END:VEVENT
END:VCALENDAR