BEGIN:VCALENDAR
VERSION:2.0
PRODID:-//Lighthouse for the Blind - ECPv6.15.17.1//NONSGML v1.0//EN
CALSCALE:GREGORIAN
METHOD:PUBLISH
X-WR-CALNAME:Lighthouse for the Blind
X-ORIGINAL-URL:https://lighthousefw.org
X-WR-CALDESC:Events for Lighthouse for the Blind
REFRESH-INTERVAL;VALUE=DURATION:PT1H
X-Robots-Tag:noindex
X-PUBLISHED-TTL:PT1H
BEGIN:VTIMEZONE
TZID:America/Chicago
BEGIN:DAYLIGHT
TZOFFSETFROM:-0600
TZOFFSETTO:-0500
TZNAME:CDT
DTSTART:20160313T080000
END:DAYLIGHT
BEGIN:STANDARD
TZOFFSETFROM:-0500
TZOFFSETTO:-0600
TZNAME:CST
DTSTART:20161106T070000
END:STANDARD
BEGIN:DAYLIGHT
TZOFFSETFROM:-0600
TZOFFSETTO:-0500
TZNAME:CDT
DTSTART:20170312T080000
END:DAYLIGHT
BEGIN:STANDARD
TZOFFSETFROM:-0500
TZOFFSETTO:-0600
TZNAME:CST
DTSTART:20171105T070000
END:STANDARD
BEGIN:DAYLIGHT
TZOFFSETFROM:-0600
TZOFFSETTO:-0500
TZNAME:CDT
DTSTART:20180311T080000
END:DAYLIGHT
BEGIN:STANDARD
TZOFFSETFROM:-0500
TZOFFSETTO:-0600
TZNAME:CST
DTSTART:20181104T070000
END:STANDARD
END:VTIMEZONE
BEGIN:VEVENT
DTSTART;TZID=America/Chicago:20170621T093000
DTEND;TZID=America/Chicago:20170621T113000
DTSTAMP:20260423T081323
CREATED:20170608T184218Z
LAST-MODIFIED:20170608T184218Z
UID:3193-1498037400-1498044600@lighthousefw.org
SUMMARY:Cooking Without Looking
DESCRIPTION:Join Kevin Higgins & Shawn Keen on Wednesday\, June 21st\, 9:30 a.m. to 11:30 a.m. for our monthly Cooking Without Looking! \nThis month we’ll be learning how to make fruit smoothies. Come join us for some healthy and delicious fun! \nPlease RSVP by Monday\, June 19th. \nFor more information\, contact Shawn Keen at skeen@lighthousefw.org or call 817.332.3341.
URL:https://lighthousefw.org/event/cooking-without-looking-2/
LOCATION:Lighthouse for the Blind of Fort Worth\, 912 West Broadway\, Fort Worth\, TX\, 76104\, United States
END:VEVENT
END:VCALENDAR