BEGIN:VCALENDAR
VERSION:2.0
PRODID:-//Lighthouse for the Blind - ECPv6.15.17.1//NONSGML v1.0//EN
CALSCALE:GREGORIAN
METHOD:PUBLISH
X-WR-CALNAME:Lighthouse for the Blind
X-ORIGINAL-URL:https://lighthousefw.org
X-WR-CALDESC:Events for Lighthouse for the Blind
REFRESH-INTERVAL;VALUE=DURATION:PT1H
X-Robots-Tag:noindex
X-PUBLISHED-TTL:PT1H
BEGIN:VTIMEZONE
TZID:America/Chicago
BEGIN:DAYLIGHT
TZOFFSETFROM:-0600
TZOFFSETTO:-0500
TZNAME:CDT
DTSTART:20160313T080000
END:DAYLIGHT
BEGIN:STANDARD
TZOFFSETFROM:-0500
TZOFFSETTO:-0600
TZNAME:CST
DTSTART:20161106T070000
END:STANDARD
BEGIN:DAYLIGHT
TZOFFSETFROM:-0600
TZOFFSETTO:-0500
TZNAME:CDT
DTSTART:20170312T080000
END:DAYLIGHT
BEGIN:STANDARD
TZOFFSETFROM:-0500
TZOFFSETTO:-0600
TZNAME:CST
DTSTART:20171105T070000
END:STANDARD
BEGIN:DAYLIGHT
TZOFFSETFROM:-0600
TZOFFSETTO:-0500
TZNAME:CDT
DTSTART:20180311T080000
END:DAYLIGHT
BEGIN:STANDARD
TZOFFSETFROM:-0500
TZOFFSETTO:-0600
TZNAME:CST
DTSTART:20181104T070000
END:STANDARD
END:VTIMEZONE
BEGIN:VEVENT
DTSTART;TZID=America/Chicago:20170513T130000
DTEND;TZID=America/Chicago:20170513T150000
DTSTAMP:20260423T093603
CREATED:20170418T133549Z
LAST-MODIFIED:20170418T133549Z
UID:3055-1494680400-1494687600@lighthousefw.org
SUMMARY:Blind Dine
DESCRIPTION:May’s Blind Dine will be held at Shaw’s Patio Bar & Grill. \nWe’ve had several recommendations for Shaw’s and they have been very sweet in coordinating the May Blind Dine with us. We have several tables out on their patio reserved. \nSo come out and enjoy great food & friends! \nThere are menus available on their website\, www.shawspatio.com. We are planning on having a low vision and Braille menu available on site. \nPlease RSVP by Wednesday\, May 10th.\nFor more info\, contact skeen@lighthousefw.org or message us on here!
URL:https://lighthousefw.org/event/maybd/
LOCATION:Shaw’s Patio Bar & Grill\, 1051 W Magnolia Ave\, Fort Worth\, TX\, 76104\, United States
END:VEVENT
END:VCALENDAR